BEGIN:VCALENDAR
VERSION:2.0
PRODID:-//Rollstuhl Sport Club Tirol Unterland - ECPv6.6.2//NONSGML v1.0//EN
CALSCALE:GREGORIAN
METHOD:PUBLISH
X-WR-CALNAME:Rollstuhl Sport Club Tirol Unterland
X-ORIGINAL-URL:https://www.rsctu.at
X-WR-CALDESC:Veranstaltungen für Rollstuhl Sport Club Tirol Unterland
REFRESH-INTERVAL;VALUE=DURATION:PT1H
X-Robots-Tag:noindex
X-PUBLISHED-TTL:PT1H
BEGIN:VTIMEZONE
TZID:Europe/Vienna
BEGIN:DAYLIGHT
TZOFFSETFROM:+0100
TZOFFSETTO:+0200
TZNAME:CEST
DTSTART:20160327T010000
END:DAYLIGHT
BEGIN:STANDARD
TZOFFSETFROM:+0200
TZOFFSETTO:+0100
TZNAME:CET
DTSTART:20161030T010000
END:STANDARD
END:VTIMEZONE
BEGIN:VEVENT
DTSTART;TZID=Europe/Vienna:20160904T070000
DTEND;TZID=Europe/Vienna:20160910T160000
DTSTAMP:20260421T135743
CREATED:20160811T084211Z
LAST-MODIFIED:20160811T084211Z
UID:5861-1472972400-1473523200@www.rsctu.at
SUMMARY:VQÖ - Sportwoche Herbst
DESCRIPTION:
URL:https://www.rsctu.at/termine/vqoe-sportwoche-herbst/
LOCATION:Obertraun Bundessport- und Freizeitzentrum\, Winkl 49\, Obertraun\, 4831\, Österreich
END:VEVENT
BEGIN:VEVENT
DTSTART;VALUE=DATE:20160904
DTEND;VALUE=DATE:20160912
DTSTAMP:20260421T135743
CREATED:20160807T081305Z
LAST-MODIFIED:20160811T082423Z
UID:5388-1472976000-1473580799@www.rsctu.at
SUMMARY:Basketball Trainingswoche
DESCRIPTION:
URL:https://www.rsctu.at/termine/rbb-trainingswoche/
LOCATION:Faak Bundessport- und Freizeitzentrum\, Halbinselstr. 14\, Finkenstein\, 9583\, Österreich
CATEGORIES:Basketball
ORGANIZER;CN="RSCTU":MAILTO:office@rsctu.at
END:VEVENT
END:VCALENDAR