BEGIN:VCALENDAR
VERSION:2.0
PRODID:-//Rollstuhl Sport Club Tirol Unterland - ECPv6.6.2//NONSGML v1.0//EN
CALSCALE:GREGORIAN
METHOD:PUBLISH
X-WR-CALNAME:Rollstuhl Sport Club Tirol Unterland
X-ORIGINAL-URL:https://www.rsctu.at
X-WR-CALDESC:Veranstaltungen für Rollstuhl Sport Club Tirol Unterland
REFRESH-INTERVAL;VALUE=DURATION:PT1H
X-Robots-Tag:noindex
X-PUBLISHED-TTL:PT1H
BEGIN:VTIMEZONE
TZID:Europe/Vienna
BEGIN:DAYLIGHT
TZOFFSETFROM:+0100
TZOFFSETTO:+0200
TZNAME:CEST
DTSTART:20160327T010000
END:DAYLIGHT
BEGIN:STANDARD
TZOFFSETFROM:+0200
TZOFFSETTO:+0100
TZNAME:CET
DTSTART:20161030T010000
END:STANDARD
END:VTIMEZONE
BEGIN:VEVENT
DTSTART;VALUE=DATE:20161111
DTEND;VALUE=DATE:20161115
DTSTAMP:20260421T110511
CREATED:20160729T095227Z
LAST-MODIFIED:20161017T140517Z
UID:4771-1478851200-1479110399@www.rsctu.at
SUMMARY:Österreichische Meisterschaft Tennis Mannschaft\, 11.11.-13.11.2016\, St. Pölten
DESCRIPTION:  \n 
URL:https://www.rsctu.at/termine/oesterreichische-staatsmeisterschaft-mannschaft/
LOCATION:St. Pölten\, Dr. Adolf Schärfstr. 25\, St. Pölten\, Niederösterreich\, 3100\, Österreich
CATEGORIES:Tennis
ORGANIZER;CN="%C3%96sterreichischer Behindertensportverband":MAILTO:office@parasport.at
END:VEVENT
BEGIN:VEVENT
DTSTART;TZID=Europe/Vienna:20161112T090000
DTEND;TZID=Europe/Vienna:20161112T150000
DTSTAMP:20260421T110511
CREATED:20161011T100829Z
LAST-MODIFIED:20161027T175525Z
UID:7506-1478941200-1478962800@www.rsctu.at
SUMMARY:Basketball Regionalliga Süd\, 12.11.2016\, Wörgl
DESCRIPTION:
URL:https://www.rsctu.at/termine/basketball-regionalliga-sued-2/
LOCATION:Wörgl HAK / HAS\, Innsbrucker Straße 34\, Wörgl\, Tirol\, 6300\, Österreich
CATEGORIES:Basketball
ORGANIZER;CN="RSCTU":MAILTO:office@rsctu.at
END:VEVENT
BEGIN:VEVENT
DTSTART;VALUE=DATE:20161113
DTEND;VALUE=DATE:20161121
DTSTAMP:20260421T110511
CREATED:20160729T093039Z
LAST-MODIFIED:20161017T140720Z
UID:4765-1479024000-1479628799@www.rsctu.at
SUMMARY:Race Camp Ski Alpin\, 13.11.-19.11.2016\, Kaunertal
DESCRIPTION:
URL:https://www.rsctu.at/termine/ipcas-3/
LOCATION:Kaunertal\, Feichten \, Tirol\, 6524\, Österreich
CATEGORIES:Ski Alpin
END:VEVENT
END:VCALENDAR