BEGIN:VCALENDAR
VERSION:2.0
PRODID:-//Rollstuhl Sport Club Tirol Unterland - ECPv6.6.2//NONSGML v1.0//EN
CALSCALE:GREGORIAN
METHOD:PUBLISH
X-WR-CALNAME:Rollstuhl Sport Club Tirol Unterland
X-ORIGINAL-URL:https://www.rsctu.at
X-WR-CALDESC:Veranstaltungen für Rollstuhl Sport Club Tirol Unterland
REFRESH-INTERVAL;VALUE=DURATION:PT1H
X-Robots-Tag:noindex
X-PUBLISHED-TTL:PT1H
BEGIN:VTIMEZONE
TZID:Europe/Vienna
BEGIN:DAYLIGHT
TZOFFSETFROM:+0100
TZOFFSETTO:+0200
TZNAME:CEST
DTSTART:20170326T010000
END:DAYLIGHT
BEGIN:STANDARD
TZOFFSETFROM:+0200
TZOFFSETTO:+0100
TZNAME:CET
DTSTART:20171029T010000
END:STANDARD
END:VTIMEZONE
BEGIN:VEVENT
DTSTART;VALUE=DATE:20170213
DTEND;VALUE=DATE:20170220
DTSTAMP:20260421T053515
CREATED:20161017T151443Z
LAST-MODIFIED:20170125T135952Z
UID:7673-1486972800-1487491199@www.rsctu.at
SUMMARY:Weltcuprennen Snowboard\, 13.02.-18.02.2017\, La Molina
DESCRIPTION:
URL:https://www.rsctu.at/termine/weltcuprennen-snowboard-12-01-14-01-2017-la-molina/
CATEGORIES:Snowboard
END:VEVENT
BEGIN:VEVENT
DTSTART;VALUE=DATE:20170215
DTEND;VALUE=DATE:20170218
DTSTAMP:20260421T053515
CREATED:20160713T051159Z
LAST-MODIFIED:20170213T154258Z
UID:1776-1487145600-1487318399@www.rsctu.at
SUMMARY:Europacuprennen Ski Alpin\, 15.02.-16.02.2017\, Zagreb-Sljeme
DESCRIPTION:
URL:https://www.rsctu.at/termine/europacup-4/
LOCATION:Sljeme\, Kroatien
CATEGORIES:Ski Alpin
END:VEVENT
BEGIN:VEVENT
DTSTART;VALUE=DATE:20170216
DTEND;VALUE=DATE:20170220
DTSTAMP:20260421T053515
CREATED:20160921T165520Z
LAST-MODIFIED:20170213T154219Z
UID:7309-1487232000-1487491199@www.rsctu.at
SUMMARY:IPCAS-Rennen Ski Alpin\, 16.02.-18.02.2017\, Abtenau
DESCRIPTION:
URL:https://www.rsctu.at/termine/ski-alpin-ipcas-2/
LOCATION:Abtenau\, Abtenau\, 5441 \, Österreich
CATEGORIES:Ski Alpin
END:VEVENT
END:VCALENDAR