BEGIN:VCALENDAR
VERSION:2.0
PRODID:-//Rollstuhl Sport Club Tirol Unterland - ECPv6.6.2//NONSGML v1.0//EN
CALSCALE:GREGORIAN
METHOD:PUBLISH
X-ORIGINAL-URL:https://www.rsctu.at
X-WR-CALDESC:Veranstaltungen für Rollstuhl Sport Club Tirol Unterland
REFRESH-INTERVAL;VALUE=DURATION:PT1H
X-Robots-Tag:noindex
X-PUBLISHED-TTL:PT1H
BEGIN:VTIMEZONE
TZID:Europe/Vienna
BEGIN:DAYLIGHT
TZOFFSETFROM:+0100
TZOFFSETTO:+0200
TZNAME:CEST
DTSTART:20170326T010000
END:DAYLIGHT
BEGIN:STANDARD
TZOFFSETFROM:+0200
TZOFFSETTO:+0100
TZNAME:CET
DTSTART:20171029T010000
END:STANDARD
END:VTIMEZONE
BEGIN:VEVENT
DTSTART;VALUE=DATE:20170304
DTEND;VALUE=DATE:20170307
DTSTAMP:20260421T034432
CREATED:20161017T145857Z
LAST-MODIFIED:20161017T145857Z
UID:7663-1488614400-1488787199@www.rsctu.at
SUMMARY:Austria Cup Ski Alpin\, 04.03.-05.03.2017\, Vorarlberg
DESCRIPTION:
URL:https://www.rsctu.at/termine/austria-cup-ski-alpin-04-03-05-03-2017-vorarlberg/
CATEGORIES:Ski Alpin
END:VEVENT
BEGIN:VEVENT
DTSTART;VALUE=DATE:20170304
DTEND;VALUE=DATE:20170307
DTSTAMP:20260421T034432
CREATED:20170220T085723Z
LAST-MODIFIED:20170220T085723Z
UID:9131-1488614400-1488787199@www.rsctu.at
SUMMARY:IPCAS-Rennen Ski Alpin\, 04.03.-05.03.2017\, Horni Domky
DESCRIPTION:
URL:https://www.rsctu.at/termine/ipcas-rennen-ski-alpin-04-03-05-03-2017-horni-domky/
CATEGORIES:Ski Alpin
END:VEVENT
BEGIN:VEVENT
DTSTART;VALUE=DATE:20170305
DTEND;VALUE=DATE:20170309
DTSTAMP:20260421T034432
CREATED:20160712T050415Z
LAST-MODIFIED:20161017T145946Z
UID:1524-1488700800-1488959999@www.rsctu.at
SUMMARY:Weltcuprennen Ski Alpin\, 05.03.-07.03.2017\, Hakuba
DESCRIPTION:
URL:https://www.rsctu.at/termine/weltcup-2/
LOCATION:Hakuba\, Hakuba\, Japan
CATEGORIES:Ski Alpin
END:VEVENT
END:VCALENDAR