BEGIN:VCALENDAR
VERSION:2.0
PRODID:-//Rollstuhl Sport Club Tirol Unterland - ECPv6.6.2//NONSGML v1.0//EN
CALSCALE:GREGORIAN
METHOD:PUBLISH
X-WR-CALNAME:Rollstuhl Sport Club Tirol Unterland
X-ORIGINAL-URL:https://www.rsctu.at
X-WR-CALDESC:Veranstaltungen für Rollstuhl Sport Club Tirol Unterland
REFRESH-INTERVAL;VALUE=DURATION:PT1H
X-Robots-Tag:noindex
X-PUBLISHED-TTL:PT1H
BEGIN:VTIMEZONE
TZID:Europe/Vienna
BEGIN:DAYLIGHT
TZOFFSETFROM:+0100
TZOFFSETTO:+0200
TZNAME:CEST
DTSTART:20170326T010000
END:DAYLIGHT
BEGIN:STANDARD
TZOFFSETFROM:+0200
TZOFFSETTO:+0100
TZNAME:CET
DTSTART:20171029T010000
END:STANDARD
END:VTIMEZONE
BEGIN:VEVENT
DTSTART;VALUE=DATE:20170407
DTEND;VALUE=DATE:20170411
DTSTAMP:20260421T015916
CREATED:20170114T085646Z
LAST-MODIFIED:20170206T100825Z
UID:8490-1491552000-1491811199@www.rsctu.at
SUMMARY:Österreichische Meisterschaft Tennis Einzel/Doppel\, 07.04.-09.04.2017\, Schwaz
DESCRIPTION:
URL:https://www.rsctu.at/termine/oesterreichische-meisterschaft-tennis-einzel-doppel-07-04-09-04-2017-schwaz/
LOCATION:Tennishalle Silberberg Schwaz\, Alte Landstraße 1 \, Schwaz\, Tirol\, 6130\, Österreich
CATEGORIES:Tennis
ORGANIZER;CN="RSCTU":MAILTO:office@rsctu.at
END:VEVENT
BEGIN:VEVENT
DTSTART;VALUE=DATE:20170408
DTEND;VALUE=DATE:20170410
DTSTAMP:20260421T015916
CREATED:20170117T132536Z
LAST-MODIFIED:20170129T180656Z
UID:8580-1491638400-1491724799@www.rsctu.at
SUMMARY:Österreichische Tischtennis-Ranglisten-Turnier\, 08.04.2017\, Bad Häring
DESCRIPTION:
URL:https://www.rsctu.at/termine/oesterreichische-tischtennis-ranglisten-turnier-08-04-2017-bad-haering/
LOCATION:RZ Häring\, Rehaweg 1\, Bad Häring\, 6323\, Österreich
CATEGORIES:Tischtennis
ORGANIZER;CN="RSCTU":MAILTO:office@rsctu.at
END:VEVENT
BEGIN:VEVENT
DTSTART;VALUE=DATE:20170408
DTEND;VALUE=DATE:20170415
DTSTAMP:20260421T015916
CREATED:20161027T073111Z
LAST-MODIFIED:20161027T100844Z
UID:7765-1491638400-1492156799@www.rsctu.at
SUMMARY:Racecamp für Kinder und Jugendliche mit Behinderung
DESCRIPTION:
URL:https://www.rsctu.at/termine/racecamp-fuer-kinder-und-jugendliche-mit-behinderung/
LOCATION:Kaunertal\, Feichten \, Tirol\, 6524\, Österreich
CATEGORIES:Ski Alpin
END:VEVENT
END:VCALENDAR