BEGIN:VCALENDAR
VERSION:2.0
PRODID:-//Rollstuhl Sport Club Tirol Unterland - ECPv6.6.2//NONSGML v1.0//EN
CALSCALE:GREGORIAN
METHOD:PUBLISH
X-WR-CALNAME:Rollstuhl Sport Club Tirol Unterland
X-ORIGINAL-URL:https://www.rsctu.at
X-WR-CALDESC:Veranstaltungen für Rollstuhl Sport Club Tirol Unterland
REFRESH-INTERVAL;VALUE=DURATION:PT1H
X-Robots-Tag:noindex
X-PUBLISHED-TTL:PT1H
BEGIN:VTIMEZONE
TZID:Europe/Vienna
BEGIN:DAYLIGHT
TZOFFSETFROM:+0100
TZOFFSETTO:+0200
TZNAME:CEST
DTSTART:20170326T010000
END:DAYLIGHT
BEGIN:STANDARD
TZOFFSETFROM:+0200
TZOFFSETTO:+0100
TZNAME:CET
DTSTART:20171029T010000
END:STANDARD
END:VTIMEZONE
BEGIN:VEVENT
DTSTART;VALUE=DATE:20170624
DTEND;VALUE=DATE:20170627
DTSTAMP:20260421T002047
CREATED:20161231T091619Z
LAST-MODIFIED:20170215T104358Z
UID:8417-1498291200-1498463999@www.rsctu.at
SUMMARY:Österreichische Meisterschaft Tischtennis-Einzel\, 24.06.-25.06.2017\, Stockerau
DESCRIPTION:
URL:https://www.rsctu.at/termine/oestm-tt-einzel-24-06-17-25-06-17-stockerau/
LOCATION:Stockerau\, Sportzentrum Alte Au\, Stockerau\, 2000
CATEGORIES:Tischtennis
END:VEVENT
END:VCALENDAR