BEGIN:VCALENDAR
VERSION:2.0
PRODID:-//Rollstuhl Sport Club Tirol Unterland - ECPv6.6.2//NONSGML v1.0//EN
CALSCALE:GREGORIAN
METHOD:PUBLISH
X-ORIGINAL-URL:https://www.rsctu.at
X-WR-CALDESC:Veranstaltungen für Rollstuhl Sport Club Tirol Unterland
REFRESH-INTERVAL;VALUE=DURATION:PT1H
X-Robots-Tag:noindex
X-PUBLISHED-TTL:PT1H
BEGIN:VTIMEZONE
TZID:Europe/Vienna
BEGIN:DAYLIGHT
TZOFFSETFROM:+0100
TZOFFSETTO:+0200
TZNAME:CEST
DTSTART:20170326T010000
END:DAYLIGHT
BEGIN:STANDARD
TZOFFSETFROM:+0200
TZOFFSETTO:+0100
TZNAME:CET
DTSTART:20171029T010000
END:STANDARD
END:VTIMEZONE
BEGIN:VEVENT
DTSTART;VALUE=DATE:20170701
DTEND;VALUE=DATE:20170704
DTSTAMP:20260420T205603
CREATED:20161221T183816Z
LAST-MODIFIED:20170220T101801Z
UID:8366-1498896000-1499068799@www.rsctu.at
SUMMARY:Österreichische Meisterschaft Leichtathletik\, 01.-02.07.2017\, Rif
DESCRIPTION:
URL:https://www.rsctu.at/termine/oestm-leichtathletik-01-bis-02-07-2017-salzburg/
LOCATION:Salzburg / RIF\, Hartmannweg 4-6\, Hallein\, 5400 \, Österreich
CATEGORIES:Leichtathletik
ORGANIZER;CN="%C3%96sterreichischer Behindertensportverband":MAILTO:office@parasport.at
END:VEVENT
END:VCALENDAR