BEGIN:VCALENDAR
VERSION:2.0
PRODID:-//Rollstuhl Sport Club Tirol Unterland - ECPv6.6.2//NONSGML v1.0//EN
CALSCALE:GREGORIAN
METHOD:PUBLISH
X-ORIGINAL-URL:https://www.rsctu.at
X-WR-CALDESC:Veranstaltungen für Rollstuhl Sport Club Tirol Unterland
REFRESH-INTERVAL;VALUE=DURATION:PT1H
X-Robots-Tag:noindex
X-PUBLISHED-TTL:PT1H
BEGIN:VTIMEZONE
TZID:Europe/Vienna
BEGIN:DAYLIGHT
TZOFFSETFROM:+0100
TZOFFSETTO:+0200
TZNAME:CEST
DTSTART:20170326T010000
END:DAYLIGHT
BEGIN:STANDARD
TZOFFSETFROM:+0200
TZOFFSETTO:+0100
TZNAME:CET
DTSTART:20171029T010000
END:STANDARD
END:VTIMEZONE
BEGIN:VEVENT
DTSTART;VALUE=DATE:20170923
DTEND;VALUE=DATE:20170925
DTSTAMP:20260420T190134
CREATED:20170802T091148Z
LAST-MODIFIED:20170802T091148Z
UID:10111-1506153600-1506239999@www.rsctu.at
SUMMARY:Basketballturnier Ulm 2017
DESCRIPTION: 
URL:https://www.rsctu.at/termine/basketballturnier-ulm-2017/
LOCATION:Ulm TSG Söflingen\, Harthauser Str.99\, Ulm\, 89081\, Deutschland
CATEGORIES:Basketball
END:VEVENT
BEGIN:VEVENT
DTSTART;VALUE=DATE:20170923
DTEND;VALUE=DATE:20170925
DTSTAMP:20260420T190134
CREATED:20170910T174739Z
LAST-MODIFIED:20170910T174739Z
UID:10401-1506153600-1506239999@www.rsctu.at
SUMMARY:Tag des Sports 2017
DESCRIPTION:Im Bereich des Behindertensports werden heuer folgende Athletinnen und Athleten geehrt: Janina FALK\, Thomas GEIERSPICHLER\, Kurt MARTINSCHITZ\, Patrick MOOR\, Thomas GROCHAR\, Markus GFATTERHOFER\, Reinhold SCHETT\, Lukas KÄFER\, Melissa KÖCK\, Christoph LEBELHUBER\, Raphael PETR\, Heidi MACKOWITZ\, Markus SALCHER\, Carina EDLINGER\, Claudia LÖSCH\, Krisztian GARDOS\, Andreas ONEA\, Markus Mendy SWOBODA\, Günther MATZINGER\, Pepo PUCH\, Walter ABLINGER\, Natalija EDER\, Thomas FRÜHWIRTH.
URL:https://www.rsctu.at/termine/tag-des-sports-2017/
LOCATION:Sportplatz Prater\, Wien\, Wien\, Österreich
CATEGORIES:Weitere Sportarten
END:VEVENT
END:VCALENDAR