BEGIN:VCALENDAR
VERSION:2.0
PRODID:-//Rollstuhl Sport Club Tirol Unterland - ECPv6.6.2//NONSGML v1.0//EN
CALSCALE:GREGORIAN
METHOD:PUBLISH
X-ORIGINAL-URL:https://www.rsctu.at
X-WR-CALDESC:Veranstaltungen für Rollstuhl Sport Club Tirol Unterland
REFRESH-INTERVAL;VALUE=DURATION:PT1H
X-Robots-Tag:noindex
X-PUBLISHED-TTL:PT1H
BEGIN:VTIMEZONE
TZID:Europe/Vienna
BEGIN:DAYLIGHT
TZOFFSETFROM:+0100
TZOFFSETTO:+0200
TZNAME:CEST
DTSTART:20170326T010000
END:DAYLIGHT
BEGIN:STANDARD
TZOFFSETFROM:+0200
TZOFFSETTO:+0100
TZNAME:CET
DTSTART:20171029T010000
END:STANDARD
END:VTIMEZONE
BEGIN:VEVENT
DTSTART;VALUE=DATE:20170929
DTEND;VALUE=DATE:20171003
DTSTAMP:20260420T160145
CREATED:20170330T113847Z
LAST-MODIFIED:20170425T080420Z
UID:9477-1506672000-1506931199@www.rsctu.at
SUMMARY:Österreichische Meisterschaft Rollstuhltennis Mannschaft\, 29.09.-01.10.2017\, Leibnitz
DESCRIPTION: 
URL:https://www.rsctu.at/termine/oesterreichische-meisterschaft-mannschaft-tennis/
LOCATION:Leibnitz\, Rudolf-Hans-Bartsch-Gasse 16\, Leibnitz\, Steiermark\, 8430\, Österreich
CATEGORIES:Tennis
ORGANIZER;CN="%C3%96sterreichischer Behindertensportverband":MAILTO:office@parasport.at
END:VEVENT
BEGIN:VEVENT
DTSTART;VALUE=DATE:20170929
DTEND;VALUE=DATE:20171003
DTSTAMP:20260420T160145
CREATED:20170703T081821Z
LAST-MODIFIED:20170704T103039Z
UID:9937-1506672000-1506931199@www.rsctu.at
SUMMARY:Österreichische Meisterschaft Sportschiessen\, 29.09.-01.10.2017\, Kapfenberg
DESCRIPTION: 
URL:https://www.rsctu.at/termine/36-offene-oestm-sportschiessen/
LOCATION:Kapfenberg\, Sporthotel Grabner + Schießstand Graschitz\, Kapfenberg\, Steiermark\, 8605\, Österreich
CATEGORIES:Sportschiessen
ORGANIZER;CN="%C3%96sterreichischer Behindertensportverband":MAILTO:office@parasport.at
END:VEVENT
BEGIN:VEVENT
DTSTART;VALUE=DATE:20170929
DTEND;VALUE=DATE:20171003
DTSTAMP:20260420T160145
CREATED:20170809T050629Z
LAST-MODIFIED:20170809T050629Z
UID:10138-1506672000-1506931199@www.rsctu.at
SUMMARY:Übungsleiterausbildung im Behindertensport Termin Basismodul 2017
DESCRIPTION:Anmeldeschluss 11.08.2017
URL:https://www.rsctu.at/termine/uebungsleiterausbildung-im-behindertensport-termin-basismodul-2017/
CATEGORIES:Weitere Sportarten
ORGANIZER;CN="%C3%96sterreichischer Behindertensportverband":MAILTO:office@parasport.at
END:VEVENT
END:VCALENDAR