BEGIN:VCALENDAR
VERSION:2.0
PRODID:-//Rollstuhl Sport Club Tirol Unterland - ECPv6.6.2//NONSGML v1.0//EN
CALSCALE:GREGORIAN
METHOD:PUBLISH
X-WR-CALNAME:Rollstuhl Sport Club Tirol Unterland
X-ORIGINAL-URL:https://www.rsctu.at
X-WR-CALDESC:Veranstaltungen für Rollstuhl Sport Club Tirol Unterland
REFRESH-INTERVAL;VALUE=DURATION:PT1H
X-Robots-Tag:noindex
X-PUBLISHED-TTL:PT1H
BEGIN:VTIMEZONE
TZID:Europe/Vienna
BEGIN:DAYLIGHT
TZOFFSETFROM:+0100
TZOFFSETTO:+0200
TZNAME:CEST
DTSTART:20180325T010000
END:DAYLIGHT
BEGIN:STANDARD
TZOFFSETFROM:+0200
TZOFFSETTO:+0100
TZNAME:CET
DTSTART:20181028T010000
END:STANDARD
END:VTIMEZONE
BEGIN:VEVENT
DTSTART;VALUE=DATE:20180107
DTEND;VALUE=DATE:20180115
DTSTAMP:20260420T114750
CREATED:20171003T122654Z
LAST-MODIFIED:20171003T122654Z
UID:10595-1515312000-1515916799@www.rsctu.at
SUMMARY:Monoskikurs\, 07.-13.01.2018\, Kaunertal
DESCRIPTION:
URL:https://www.rsctu.at/termine/monoskikurs-07-13-01-2018-kaunertal/
LOCATION:Kaunertal\, Feichten \, Tirol\, 6524\, Österreich
CATEGORIES:Ski Alpin
ORGANIZER;CN="Alois Praschberger":MAILTO:info@praschberger.com
END:VEVENT
BEGIN:VEVENT
DTSTART;VALUE=DATE:20180108
DTEND;VALUE=DATE:20180111
DTSTAMP:20260420T114750
CREATED:20170813T075432Z
LAST-MODIFIED:20170813T075432Z
UID:10202-1515398400-1515571199@www.rsctu.at
SUMMARY:Weltcuprennen Ski Alpin\, 08.01.-09.01.2018\, Zagreb
DESCRIPTION:
URL:https://www.rsctu.at/termine/weltcuprennen-ski-alpin-08-01-09-01-2018-zagreb/
CATEGORIES:Ski Alpin
END:VEVENT
END:VCALENDAR