BEGIN:VCALENDAR
VERSION:2.0
PRODID:-//Rollstuhl Sport Club Tirol Unterland - ECPv6.6.2//NONSGML v1.0//EN
CALSCALE:GREGORIAN
METHOD:PUBLISH
X-WR-CALNAME:Rollstuhl Sport Club Tirol Unterland
X-ORIGINAL-URL:https://www.rsctu.at
X-WR-CALDESC:Veranstaltungen für Rollstuhl Sport Club Tirol Unterland
REFRESH-INTERVAL;VALUE=DURATION:PT1H
X-Robots-Tag:noindex
X-PUBLISHED-TTL:PT1H
BEGIN:VTIMEZONE
TZID:Europe/Vienna
BEGIN:DAYLIGHT
TZOFFSETFROM:+0100
TZOFFSETTO:+0200
TZNAME:CEST
DTSTART:20180325T010000
END:DAYLIGHT
BEGIN:STANDARD
TZOFFSETFROM:+0200
TZOFFSETTO:+0100
TZNAME:CET
DTSTART:20181028T010000
END:STANDARD
END:VTIMEZONE
BEGIN:VEVENT
DTSTART;VALUE=DATE:20180207
DTEND;VALUE=DATE:20180213
DTSTAMP:20260420T100234
CREATED:20170813T080330Z
LAST-MODIFIED:20170813T080330Z
UID:10214-1517990400-1518422399@www.rsctu.at
SUMMARY:Weltcuprennen Ski Alpin\, 07.02.-11.02.2018\, Kimberly
DESCRIPTION:
URL:https://www.rsctu.at/termine/weltcuprennen-ski-alpin-07-02-11-02-2018-kimberly/
CATEGORIES:Ski Alpin
END:VEVENT
BEGIN:VEVENT
DTSTART;VALUE=DATE:20180210
DTEND;VALUE=DATE:20180213
DTSTAMP:20260420T100234
CREATED:20170813T080753Z
LAST-MODIFIED:20180124T115631Z
UID:10220-1518249600-1518422399@www.rsctu.at
SUMMARY:Austrian Cup Ski Alpin\, 10.02.-11.02.2018\, Niederösterreich
DESCRIPTION:
URL:https://www.rsctu.at/termine/austria-cup-ski-alpin-17-02-18-02-2018-niederoesterreich/
CATEGORIES:Ski Alpin
END:VEVENT
BEGIN:VEVENT
DTSTART;VALUE=DATE:20180211
DTEND;VALUE=DATE:20180213
DTSTAMP:20260420T100234
CREATED:20170625T084450Z
LAST-MODIFIED:20170813T073345Z
UID:9879-1518336000-1518422399@www.rsctu.at
SUMMARY:Basketball Regionalliga Süd\, 11.02.2018\, München
DESCRIPTION:10:00 Uhr   USC München 2 – Bayreuth\n12:00 Uhr   Bayreuth – Tirol\n14:00 Uhr   USC München 2 – Tirol
URL:https://www.rsctu.at/termine/basketball-regionalliga-sued-11-02-2018-muenchen/
CATEGORIES:Basketball
END:VEVENT
END:VCALENDAR