BEGIN:VCALENDAR
VERSION:2.0
PRODID:-//Rollstuhl Sport Club Tirol Unterland - ECPv6.6.2//NONSGML v1.0//EN
CALSCALE:GREGORIAN
METHOD:PUBLISH
X-WR-CALNAME:Rollstuhl Sport Club Tirol Unterland
X-ORIGINAL-URL:https://www.rsctu.at
X-WR-CALDESC:Veranstaltungen für Rollstuhl Sport Club Tirol Unterland
REFRESH-INTERVAL;VALUE=DURATION:PT1H
X-Robots-Tag:noindex
X-PUBLISHED-TTL:PT1H
BEGIN:VTIMEZONE
TZID:Europe/Vienna
BEGIN:DAYLIGHT
TZOFFSETFROM:+0100
TZOFFSETTO:+0200
TZNAME:CEST
DTSTART:20180325T010000
END:DAYLIGHT
BEGIN:STANDARD
TZOFFSETFROM:+0200
TZOFFSETTO:+0100
TZNAME:CET
DTSTART:20181028T010000
END:STANDARD
END:VTIMEZONE
BEGIN:VEVENT
DTSTART;VALUE=DATE:20180222
DTEND;VALUE=DATE:20180226
DTSTAMP:20260420T100235
CREATED:20170813T080854Z
LAST-MODIFIED:20170813T080854Z
UID:10222-1519286400-1519545599@www.rsctu.at
SUMMARY:IPCAS-Rennen Ski Alpin\, 22.02.-24.02.2018\, Abtenau
DESCRIPTION:
URL:https://www.rsctu.at/termine/ipcas-rennen-ski-alpin-22-02-24-02-2018-abtenau/
CATEGORIES:Ski Alpin
END:VEVENT
BEGIN:VEVENT
DTSTART;VALUE=DATE:20180224
DTEND;VALUE=DATE:20180226
DTSTAMP:20260420T100235
CREATED:20170625T084626Z
LAST-MODIFIED:20180207T065701Z
UID:9881-1519459200-1519545599@www.rsctu.at
SUMMARY:Basketball Regionalliga Süd\, 24.02.2018\, Salzburg
DESCRIPTION:10:00 Uhr   Salzburg 2 – Tirol\n12:00 Uhr   Tirol – Rosenheim\n14:00 Uhr   Salzburg 2 – Rosenheim \n\n\n 
URL:https://www.rsctu.at/termine/basketball-regionalliga-sued-24-02-2018-salzburg/
CATEGORIES:Basketball
END:VEVENT
BEGIN:VEVENT
DTSTART;VALUE=DATE:20180224
DTEND;VALUE=DATE:20180227
DTSTAMP:20260420T100235
CREATED:20180105T095913Z
LAST-MODIFIED:20180115T152719Z
UID:11055-1519459200-1519631999@www.rsctu.at
SUMMARY:Österreichische Meisterschaft Ski Nordisch\, 24.-25.02.2018\, Hohentauern
DESCRIPTION: 
URL:https://www.rsctu.at/termine/oestmoemoebm-ski-nordisch-2018/
CATEGORIES:Weitere Sportarten
END:VEVENT
END:VCALENDAR