BEGIN:VCALENDAR
VERSION:2.0
PRODID:-//Rollstuhl Sport Club Tirol Unterland - ECPv6.6.2//NONSGML v1.0//EN
CALSCALE:GREGORIAN
METHOD:PUBLISH
X-WR-CALNAME:Rollstuhl Sport Club Tirol Unterland
X-ORIGINAL-URL:https://www.rsctu.at
X-WR-CALDESC:Veranstaltungen für Rollstuhl Sport Club Tirol Unterland
REFRESH-INTERVAL;VALUE=DURATION:PT1H
X-Robots-Tag:noindex
X-PUBLISHED-TTL:PT1H
BEGIN:VTIMEZONE
TZID:Europe/Vienna
BEGIN:DAYLIGHT
TZOFFSETFROM:+0100
TZOFFSETTO:+0200
TZNAME:CEST
DTSTART:20180325T010000
END:DAYLIGHT
BEGIN:STANDARD
TZOFFSETFROM:+0200
TZOFFSETTO:+0100
TZNAME:CET
DTSTART:20181028T010000
END:STANDARD
END:VTIMEZONE
BEGIN:VEVENT
DTSTART;VALUE=DATE:20180323
DTEND;VALUE=DATE:20180327
DTSTAMP:20260420T083933
CREATED:20170813T081457Z
LAST-MODIFIED:20180102T101837Z
UID:10228-1521792000-1522051199@www.rsctu.at
SUMMARY:Österreichische Meisterschaft Ski Alpin\, 23.03.-25.03.2018\, Steinach
DESCRIPTION: 
URL:https://www.rsctu.at/termine/oesterreichische-meisterschaft-ski-alpin-23-03-25-03-2018-steinach/
CATEGORIES:Ski Alpin
END:VEVENT
BEGIN:VEVENT
DTSTART;VALUE=DATE:20180325
DTEND;VALUE=DATE:20180327
DTSTAMP:20260420T083933
CREATED:20170625T084808Z
LAST-MODIFIED:20180319T195206Z
UID:9883-1521964800-1522051199@www.rsctu.at
SUMMARY:Basketball Regionalliga Süd\, 25.03.2018\, Stuttgart
DESCRIPTION:12:00 Uhr   Stuttgart –  Tirol                                       \n14:00 Uhr   Tirol – RBB München 2\n16:00 Uhr   Stuttgart – RBB München 2
URL:https://www.rsctu.at/termine/basketball-regionalliga-sued-25-03-2018-stuttgart/
CATEGORIES:Basketball
END:VEVENT
BEGIN:VEVENT
DTSTART;VALUE=DATE:20180326
DTEND;VALUE=DATE:20180330
DTSTAMP:20260420T083933
CREATED:20170813T081617Z
LAST-MODIFIED:20170813T081724Z
UID:10230-1522051200-1522310399@www.rsctu.at
SUMMARY:Europacuprennen Ski Alpin\, 26.03.-28.03.2018\, Obersaxen
DESCRIPTION:
URL:https://www.rsctu.at/termine/europacuprennen-ski-alpin-28-03-30-03-2018-obersaxen/
CATEGORIES:Ski Alpin
END:VEVENT
END:VCALENDAR