BEGIN:VCALENDAR
VERSION:2.0
PRODID:-//Rollstuhl Sport Club Tirol Unterland - ECPv6.6.2//NONSGML v1.0//EN
CALSCALE:GREGORIAN
METHOD:PUBLISH
X-ORIGINAL-URL:https://www.rsctu.at
X-WR-CALDESC:Veranstaltungen für Rollstuhl Sport Club Tirol Unterland
REFRESH-INTERVAL;VALUE=DURATION:PT1H
X-Robots-Tag:noindex
X-PUBLISHED-TTL:PT1H
BEGIN:VTIMEZONE
TZID:Europe/Vienna
BEGIN:DAYLIGHT
TZOFFSETFROM:+0100
TZOFFSETTO:+0200
TZNAME:CEST
DTSTART:20180325T010000
END:DAYLIGHT
BEGIN:STANDARD
TZOFFSETFROM:+0200
TZOFFSETTO:+0100
TZNAME:CET
DTSTART:20181028T010000
END:STANDARD
END:VTIMEZONE
BEGIN:VEVENT
DTSTART;TZID=Europe/Vienna:20180516T173000
DTEND;TZID=Europe/Vienna:20180516T193000
DTSTAMP:20260420T052844
CREATED:20180423T095829Z
LAST-MODIFIED:20180427T051107Z
UID:11863-1526491800-1526499000@www.rsctu.at
SUMMARY:Wolfgang Timischl\, ein Film von Walter Wegscheider
DESCRIPTION:
URL:https://www.rsctu.at/termine/wolfgang-timischl-ein-film-von-walter-wegscheider/
LOCATION:RZ Häring\, Rehaweg 1\, Bad Häring\, 6323\, Österreich
CATEGORIES:Handbike
ORGANIZER;CN="RSCTU":MAILTO:office@rsctu.at
END:VEVENT
END:VCALENDAR