BEGIN:VCALENDAR
VERSION:2.0
PRODID:-//Rollstuhl Sport Club Tirol Unterland - ECPv6.6.2//NONSGML v1.0//EN
CALSCALE:GREGORIAN
METHOD:PUBLISH
X-ORIGINAL-URL:https://www.rsctu.at
X-WR-CALDESC:Veranstaltungen für Rollstuhl Sport Club Tirol Unterland
REFRESH-INTERVAL;VALUE=DURATION:PT1H
X-Robots-Tag:noindex
X-PUBLISHED-TTL:PT1H
BEGIN:VTIMEZONE
TZID:Europe/Vienna
BEGIN:DAYLIGHT
TZOFFSETFROM:+0100
TZOFFSETTO:+0200
TZNAME:CEST
DTSTART:20180325T010000
END:DAYLIGHT
BEGIN:STANDARD
TZOFFSETFROM:+0200
TZOFFSETTO:+0100
TZNAME:CET
DTSTART:20181028T010000
END:STANDARD
END:VTIMEZONE
BEGIN:VEVENT
DTSTART;VALUE=DATE:20180819
DTEND;VALUE=DATE:20180827
DTSTAMP:20260420T002657
CREATED:20180320T093122Z
LAST-MODIFIED:20180703T060303Z
UID:11716-1534665600-1535270399@www.rsctu.at
SUMMARY:Jugendsportwoche Faakersee
DESCRIPTION:Teilnahmeberechtigt sind alle Jugendlichen bis zum 18. Lebensjahr und Mitglied beim TBSV u. KBSV und bei freiem Bettenkontingent Nachwuchssportler ab dem 18. Lebensjahr.
URL:https://www.rsctu.at/termine/jugendsportwoche-faakersee-19-08-2018-25-08-2018/
LOCATION:Faak Bundessport- und Freizeitzentrum\, Halbinselstr. 14\, Finkenstein\, 9583\, Österreich
CATEGORIES:Weitere Sportarten
END:VEVENT
BEGIN:VEVENT
DTSTART;TZID=Europe/Vienna:20180822T080000
DTEND;TZID=Europe/Vienna:20180822T170000
DTSTAMP:20260420T002657
CREATED:20180710T122500Z
LAST-MODIFIED:20180710T122500Z
UID:12273-1534924800-1534957200@www.rsctu.at
SUMMARY:Handbike Projekt 2018 Wolfgang Timischl
DESCRIPTION:Etappe\n\nLandeck-IBK – 81\,1km \nIBK-Kufstein – 104\,5km \nGesamt Tirol: 185\,6km \nKufstein-Rohrdorf – 31\,6km   Gesamt Erste Etappe: 217\,2km
URL:https://www.rsctu.at/termine/handbike-projekt-2018-wolfgang-timischl/
LOCATION:Landeck
CATEGORIES:Handbike
END:VEVENT
END:VCALENDAR