BEGIN:VCALENDAR
VERSION:2.0
PRODID:-//Rollstuhl Sport Club Tirol Unterland - ECPv6.6.2//NONSGML v1.0//EN
CALSCALE:GREGORIAN
METHOD:PUBLISH
X-ORIGINAL-URL:https://www.rsctu.at
X-WR-CALDESC:Veranstaltungen für Rollstuhl Sport Club Tirol Unterland
REFRESH-INTERVAL;VALUE=DURATION:PT1H
X-Robots-Tag:noindex
X-PUBLISHED-TTL:PT1H
BEGIN:VTIMEZONE
TZID:Europe/Vienna
BEGIN:DAYLIGHT
TZOFFSETFROM:+0100
TZOFFSETTO:+0200
TZNAME:CEST
DTSTART:20180325T010000
END:DAYLIGHT
BEGIN:STANDARD
TZOFFSETFROM:+0200
TZOFFSETTO:+0100
TZNAME:CET
DTSTART:20181028T010000
END:STANDARD
END:VTIMEZONE
BEGIN:VEVENT
DTSTART;VALUE=DATE:20180819
DTEND;VALUE=DATE:20180827
DTSTAMP:20260420T002705
CREATED:20180320T093122Z
LAST-MODIFIED:20180703T060303Z
UID:11716-1534665600-1535270399@www.rsctu.at
SUMMARY:Jugendsportwoche Faakersee
DESCRIPTION:Teilnahmeberechtigt sind alle Jugendlichen bis zum 18. Lebensjahr und Mitglied beim TBSV u. KBSV und bei freiem Bettenkontingent Nachwuchssportler ab dem 18. Lebensjahr.
URL:https://www.rsctu.at/termine/jugendsportwoche-faakersee-19-08-2018-25-08-2018/
LOCATION:Faak Bundessport- und Freizeitzentrum\, Halbinselstr. 14\, Finkenstein\, 9583\, Österreich
CATEGORIES:Weitere Sportarten
END:VEVENT
BEGIN:VEVENT
DTSTART;TZID=Europe/Vienna:20180824T080000
DTEND;TZID=Europe/Vienna:20180824T170000
DTSTAMP:20260420T002705
CREATED:20180710T122744Z
LAST-MODIFIED:20180710T122744Z
UID:12279-1535097600-1535130000@www.rsctu.at
SUMMARY:Handbike Projekt 2018 Wolfgang Timischl
DESCRIPTION:3. Etappe \nWels-Tulln a.d. Donau 198km / über Donauradwanderweg     
URL:https://www.rsctu.at/termine/handbike-projekt-2018-wolfgang-timischl-3/
CATEGORIES:Handbike
END:VEVENT
BEGIN:VEVENT
DTSTART;TZID=Europe/Vienna:20180825T080000
DTEND;TZID=Europe/Vienna:20180825T170000
DTSTAMP:20260420T002705
CREATED:20180710T122843Z
LAST-MODIFIED:20180710T131518Z
UID:12281-1535184000-1535216400@www.rsctu.at
SUMMARY:Handbike Projekt 2018 Wolfgang Timischl
DESCRIPTION:4. Etappe \nTulln-Kobersdorf über Korneuburg-Wien-Wulkaprodersdorf 127 km
URL:https://www.rsctu.at/termine/handbike-projekt-2018-wolfgang-timischl-4/
CATEGORIES:Handbike
END:VEVENT
END:VCALENDAR