BEGIN:VCALENDAR
VERSION:2.0
PRODID:-//Rollstuhl Sport Club Tirol Unterland - ECPv6.6.2//NONSGML v1.0//EN
CALSCALE:GREGORIAN
METHOD:PUBLISH
X-WR-CALNAME:Rollstuhl Sport Club Tirol Unterland
X-ORIGINAL-URL:https://www.rsctu.at
X-WR-CALDESC:Veranstaltungen für Rollstuhl Sport Club Tirol Unterland
REFRESH-INTERVAL;VALUE=DURATION:PT1H
X-Robots-Tag:noindex
X-PUBLISHED-TTL:PT1H
BEGIN:VTIMEZONE
TZID:Europe/Vienna
BEGIN:DAYLIGHT
TZOFFSETFROM:+0100
TZOFFSETTO:+0200
TZNAME:CEST
DTSTART:20180325T010000
END:DAYLIGHT
BEGIN:STANDARD
TZOFFSETFROM:+0200
TZOFFSETTO:+0100
TZNAME:CET
DTSTART:20181028T010000
END:STANDARD
END:VTIMEZONE
BEGIN:VEVENT
DTSTART;TZID=Europe/Vienna:20180831T100000
DTEND;TZID=Europe/Vienna:20180902T123000
DTSTAMP:20260419T224604
CREATED:20180727T132835Z
LAST-MODIFIED:20180727T132835Z
UID:12378-1535709600-1535891400@www.rsctu.at
SUMMARY:Rollstuhltennis Camp
DESCRIPTION:ANMELDUNG BIS: Montag\, 20. August 2018  \nANMELDUNG AN Katharina Heigl\, rollstuhltennis@oetv.at
URL:https://www.rsctu.at/termine/rollstuhltennis-camp/
LOCATION:Bad Ischl\, Engleitenstrasse 6\, Bad Ischl\, 4820
CATEGORIES:Tennis
END:VEVENT
END:VCALENDAR