BEGIN:VCALENDAR
VERSION:2.0
PRODID:-//Rollstuhl Sport Club Tirol Unterland - ECPv6.6.2//NONSGML v1.0//EN
CALSCALE:GREGORIAN
METHOD:PUBLISH
X-WR-CALNAME:Rollstuhl Sport Club Tirol Unterland
X-ORIGINAL-URL:https://www.rsctu.at
X-WR-CALDESC:Veranstaltungen für Rollstuhl Sport Club Tirol Unterland
REFRESH-INTERVAL;VALUE=DURATION:PT1H
X-Robots-Tag:noindex
X-PUBLISHED-TTL:PT1H
BEGIN:VTIMEZONE
TZID:Europe/Vienna
BEGIN:DAYLIGHT
TZOFFSETFROM:+0100
TZOFFSETTO:+0200
TZNAME:CEST
DTSTART:20180325T010000
END:DAYLIGHT
BEGIN:STANDARD
TZOFFSETFROM:+0200
TZOFFSETTO:+0100
TZNAME:CET
DTSTART:20181028T010000
END:STANDARD
END:VTIMEZONE
BEGIN:VEVENT
DTSTART;VALUE=DATE:20181103
DTEND;VALUE=DATE:20181105
DTSTAMP:20260419T192802
CREATED:20180924T053159Z
LAST-MODIFIED:20180924T053159Z
UID:12722-1541235600-1541321999@www.rsctu.at
SUMMARY:Tiroler Meisterschaften Tennis 2018 Offener Jugendbewerb Einzel
DESCRIPTION: 
URL:https://www.rsctu.at/termine/tiroler-meisterschaften-tennis-2018-offener-jugendbewerb-einzel-2/
LOCATION:Tennishalle Silberberg Schwaz\, Alte Landstraße 1 \, Schwaz\, Tirol\, 6130\, Österreich
CATEGORIES:Tennis
END:VEVENT
BEGIN:VEVENT
DTSTART;TZID=Europe/Vienna:20181103T180000
DTEND;TZID=Europe/Vienna:20181103T200000
DTSTAMP:20260419T192802
CREATED:20180731T132310Z
LAST-MODIFIED:20181003T071815Z
UID:12395-1541268000-1541275200@www.rsctu.at
SUMMARY:2. BL Süd\, Ulm
DESCRIPTION:Sabres Ulm : RSC Tirol
URL:https://www.rsctu.at/termine/2-bl-sued-3/
LOCATION:Theodor – Pfizer – Halle\, Harthauser Straße\, Ulm\, 89077\, Deutschland
CATEGORIES:Basketball
END:VEVENT
END:VCALENDAR