BEGIN:VCALENDAR
VERSION:2.0
PRODID:-//Rollstuhl Sport Club Tirol Unterland - ECPv6.6.2//NONSGML v1.0//EN
CALSCALE:GREGORIAN
METHOD:PUBLISH
X-ORIGINAL-URL:https://www.rsctu.at
X-WR-CALDESC:Veranstaltungen für Rollstuhl Sport Club Tirol Unterland
REFRESH-INTERVAL;VALUE=DURATION:PT1H
X-Robots-Tag:noindex
X-PUBLISHED-TTL:PT1H
BEGIN:VTIMEZONE
TZID:Europe/Vienna
BEGIN:DAYLIGHT
TZOFFSETFROM:+0100
TZOFFSETTO:+0200
TZNAME:CEST
DTSTART:20180325T010000
END:DAYLIGHT
BEGIN:STANDARD
TZOFFSETFROM:+0200
TZOFFSETTO:+0100
TZNAME:CET
DTSTART:20181028T010000
END:STANDARD
END:VTIMEZONE
BEGIN:VEVENT
DTSTART;VALUE=DATE:20181130
DTEND;VALUE=DATE:20181204
DTSTAMP:20260419T173941
CREATED:20181003T073630Z
LAST-MODIFIED:20181003T073630Z
UID:12795-1543568400-1543827599@www.rsctu.at
SUMMARY:Weltcup Snowboard Pyha
DESCRIPTION:
URL:https://www.rsctu.at/termine/weltcup-snowboard-pyha/
CATEGORIES:Snowboard
END:VEVENT
BEGIN:VEVENT
DTSTART;VALUE=DATE:20181130
DTEND;VALUE=DATE:20181204
DTSTAMP:20260419T173941
CREATED:20181018T064016Z
LAST-MODIFIED:20181018T064016Z
UID:12927-1543568400-1543827599@www.rsctu.at
SUMMARY:Tenniscamp
DESCRIPTION:
URL:https://www.rsctu.at/termine/tenniscamp/
LOCATION:Stans
CATEGORIES:Tennis
END:VEVENT
END:VCALENDAR