BEGIN:VCALENDAR
VERSION:2.0
PRODID:-//Rollstuhl Sport Club Tirol Unterland - ECPv6.6.2//NONSGML v1.0//EN
CALSCALE:GREGORIAN
METHOD:PUBLISH
X-ORIGINAL-URL:https://www.rsctu.at
X-WR-CALDESC:Veranstaltungen für Rollstuhl Sport Club Tirol Unterland
REFRESH-INTERVAL;VALUE=DURATION:PT1H
X-Robots-Tag:noindex
X-PUBLISHED-TTL:PT1H
BEGIN:VTIMEZONE
TZID:Europe/Vienna
BEGIN:DAYLIGHT
TZOFFSETFROM:+0100
TZOFFSETTO:+0200
TZNAME:CEST
DTSTART:20190331T010000
END:DAYLIGHT
BEGIN:STANDARD
TZOFFSETFROM:+0200
TZOFFSETTO:+0100
TZNAME:CET
DTSTART:20191027T010000
END:STANDARD
END:VTIMEZONE
BEGIN:VEVENT
DTSTART;TZID=Europe/Vienna:20190217T160000
DTEND;TZID=Europe/Vienna:20190217T180000
DTSTAMP:20260419T143032
CREATED:20180801T073734Z
LAST-MODIFIED:20181003T072054Z
UID:12410-1550419200-1550426400@www.rsctu.at
SUMMARY:2. BL Süd\, Tübingen
DESCRIPTION:RSKV Tübingen : RSC Tirol
URL:https://www.rsctu.at/termine/2-bl-sued-9/
LOCATION:Sporthalle Feuerhägle\, Primus-Truber-Straße 47\, Tübingen-Derendingen\, 72072
CATEGORIES:Basketball
END:VEVENT
END:VCALENDAR