BEGIN:VCALENDAR
VERSION:2.0
PRODID:-//Rollstuhl Sport Club Tirol Unterland - ECPv6.6.2//NONSGML v1.0//EN
CALSCALE:GREGORIAN
METHOD:PUBLISH
X-ORIGINAL-URL:https://www.rsctu.at
X-WR-CALDESC:Veranstaltungen für Rollstuhl Sport Club Tirol Unterland
REFRESH-INTERVAL;VALUE=DURATION:PT1H
X-Robots-Tag:noindex
X-PUBLISHED-TTL:PT1H
BEGIN:VTIMEZONE
TZID:Europe/Vienna
BEGIN:DAYLIGHT
TZOFFSETFROM:+0100
TZOFFSETTO:+0200
TZNAME:CEST
DTSTART:20160327T010000
END:DAYLIGHT
BEGIN:STANDARD
TZOFFSETFROM:+0200
TZOFFSETTO:+0100
TZNAME:CET
DTSTART:20161030T010000
END:STANDARD
END:VTIMEZONE
BEGIN:VEVENT
DTSTART;VALUE=DATE:20161130
DTEND;VALUE=DATE:20161204
DTSTAMP:20260421T072842
CREATED:20160811T093537Z
LAST-MODIFIED:20161017T142305Z
UID:5868-1480492800-1480751999@www.rsctu.at
SUMMARY:Weltcuprennen Snowboard\, 30.11.-02.12.2016\, Pyhatunturi
DESCRIPTION:
URL:https://www.rsctu.at/termine/snowboard-weltcup-2/
LOCATION:Pyhatunturi\, Finnland
CATEGORIES:Snowboard
END:VEVENT
BEGIN:VEVENT
DTSTART;VALUE=DATE:20161204
DTEND;VALUE=DATE:20161206
DTSTAMP:20260421T072842
CREATED:20161103T071800Z
LAST-MODIFIED:20161103T071800Z
UID:7806-1480838400-1480924799@www.rsctu.at
SUMMARY:1. ÖM Para - Badminton - Meisterschaft
DESCRIPTION:
URL:https://www.rsctu.at/termine/1-oem-para-badminton-meisterschaft/
LOCATION:Tennis Point Vienna\, Baumgasse/Ecke Nottendorfergasse\,\, 1030 Wien\, Österreich
CATEGORIES:Weitere Sportarten
END:VEVENT
BEGIN:VEVENT
DTSTART;VALUE=DATE:20161207
DTEND;VALUE=DATE:20161213
DTSTAMP:20260421T072842
CREATED:20160804T082625Z
LAST-MODIFIED:20161124T070225Z
UID:5027-1481097600-1481529599@www.rsctu.at
SUMMARY:TSV / Snowclantraining Ski Alpin\, 07.12.-11.12.2016\, Kaunertal
DESCRIPTION:
URL:https://www.rsctu.at/termine/tsv-snowclantraining-2/
LOCATION:Kaunertal\, Feichten \, Tirol\, 6524\, Österreich
CATEGORIES:Ski Alpin
END:VEVENT
BEGIN:VEVENT
DTSTART;VALUE=DATE:20161209
DTEND;VALUE=DATE:20161213
DTSTAMP:20260421T072842
CREATED:20160729T092056Z
LAST-MODIFIED:20161017T143605Z
UID:4755-1481270400-1481529599@www.rsctu.at
SUMMARY:IPCAS-Rennen Ski Alpin\, 09.12.-11.12.2016\, Pitztal
DESCRIPTION:
URL:https://www.rsctu.at/termine/ipcas-2/
LOCATION:Pitztal\, Österreich
CATEGORIES:Ski Alpin
END:VEVENT
BEGIN:VEVENT
DTSTART;VALUE=DATE:20161212
DTEND;VALUE=DATE:20161215
DTSTAMP:20260421T072842
CREATED:20160729T091943Z
LAST-MODIFIED:20161017T143700Z
UID:4754-1481529600-1481702399@www.rsctu.at
SUMMARY:Europacuprennen Ski Alpin\, 12.12.-13.12.2016\, Pitztal
DESCRIPTION:
URL:https://www.rsctu.at/termine/europacup-7/
LOCATION:Pitztal\, Österreich
CATEGORIES:Ski Alpin
END:VEVENT
BEGIN:VEVENT
DTSTART;VALUE=DATE:20161215
DTEND;VALUE=DATE:20161219
DTSTAMP:20260421T072842
CREATED:20160729T091558Z
LAST-MODIFIED:20161017T143804Z
UID:4750-1481788800-1482047999@www.rsctu.at
SUMMARY:Weltcuprennen Ski Alpin\, 15.12.-17.12.2016\, Kühtai
DESCRIPTION:
URL:https://www.rsctu.at/termine/weltcup-6/
LOCATION:Kühtai\, Österreich
CATEGORIES:Ski Alpin
END:VEVENT
BEGIN:VEVENT
DTSTART;TZID=Europe/Vienna:20161217T090000
DTEND;TZID=Europe/Vienna:20161217T150000
DTSTAMP:20260421T072842
CREATED:20161012T051253Z
LAST-MODIFIED:20161204T085809Z
UID:7532-1481965200-1481986800@www.rsctu.at
SUMMARY:Basketball Regionalliga Süd\, 17.12.2016\, Amberg
DESCRIPTION: 
URL:https://www.rsctu.at/termine/basketball-regionalliga-sued-5/
LOCATION:Amberg\, TriMax-Sporthalle\, Max-Josef Straße 3\, Amberg\, 92224 \, Deutschland
CATEGORIES:Basketball
END:VEVENT
BEGIN:VEVENT
DTSTART;VALUE=DATE:20161219
DTEND;VALUE=DATE:20161224
DTSTAMP:20260421T072842
CREATED:20160729T091232Z
LAST-MODIFIED:20161017T143954Z
UID:4749-1482141600-1482487199@www.rsctu.at
SUMMARY:Weltcuprennen Ski Alpin\, 19.12.-22.12.2016\, St. Moritz
DESCRIPTION:
URL:https://www.rsctu.at/termine/weltcup-5/
CATEGORIES:Ski Alpin
END:VEVENT
BEGIN:VEVENT
DTSTART;VALUE=DATE:20161228
DTEND;VALUE=DATE:20161231
DTSTAMP:20260421T072842
CREATED:20160811T084323Z
LAST-MODIFIED:20161017T144217Z
UID:5860-1482912000-1483084799@www.rsctu.at
SUMMARY:Kinder- und Jugendcamp Tennis\, 28.12.-29.12.2016\, Schwaz
DESCRIPTION:
URL:https://www.rsctu.at/termine/tennis-kids-und-jugendcamp/
LOCATION:Tennishalle Silberberg Schwaz\, Alte Landstraße 1 \, Schwaz\, Tirol\, 6130\, Österreich
CATEGORIES:Tennis
ORGANIZER;CN="RSCTU":MAILTO:office@rsctu.at
END:VEVENT
END:VCALENDAR