BEGIN:VCALENDAR
VERSION:2.0
PRODID:-//Rollstuhl Sport Club Tirol Unterland - ECPv6.6.2//NONSGML v1.0//EN
CALSCALE:GREGORIAN
METHOD:PUBLISH
X-ORIGINAL-URL:https://www.rsctu.at
X-WR-CALDESC:Veranstaltungen für Rollstuhl Sport Club Tirol Unterland
REFRESH-INTERVAL;VALUE=DURATION:PT1H
X-Robots-Tag:noindex
X-PUBLISHED-TTL:PT1H
BEGIN:VTIMEZONE
TZID:Europe/Vienna
BEGIN:DAYLIGHT
TZOFFSETFROM:+0100
TZOFFSETTO:+0200
TZNAME:CEST
DTSTART:20170326T010000
END:DAYLIGHT
BEGIN:STANDARD
TZOFFSETFROM:+0200
TZOFFSETTO:+0100
TZNAME:CET
DTSTART:20171029T010000
END:STANDARD
END:VTIMEZONE
BEGIN:VEVENT
DTSTART;VALUE=DATE:20170106
DTEND;VALUE=DATE:20170109
DTSTAMP:20260421T053846
CREATED:20160921T164958Z
LAST-MODIFIED:20170104T155545Z
UID:7306-1483689600-1483862399@www.rsctu.at
SUMMARY:IPCAS-Rennen Ski Alpin\, 06.01.-07.01.2017\, Rinn
DESCRIPTION:
URL:https://www.rsctu.at/termine/ski-alpin-ipcas/
LOCATION:Hoch-Ybrig\,  Unteriberg\, 8842\, Schweiz
CATEGORIES:Ski Alpin
END:VEVENT
BEGIN:VEVENT
DTSTART;VALUE=DATE:20170107
DTEND;VALUE=DATE:20170111
DTSTAMP:20260421T053846
CREATED:20160729T090534Z
LAST-MODIFIED:20161017T144454Z
UID:4744-1483776000-1484035199@www.rsctu.at
SUMMARY:Europacuprennen Ski Alpin\, 07.01.-09.01.2017\, Veysonnaze
DESCRIPTION:
URL:https://www.rsctu.at/termine/europacup-6/
LOCATION:Veysonnaze
CATEGORIES:Ski Alpin
END:VEVENT
BEGIN:VEVENT
DTSTART;VALUE=DATE:20170108
DTEND;VALUE=DATE:20170116
DTSTAMP:20260421T053846
CREATED:20160922T050557Z
LAST-MODIFIED:20161017T151746Z
UID:7319-1483862400-1484467199@www.rsctu.at
SUMMARY:Langlaufkurs Senioren\, 08.01.-14.01.2017\, Ramsau
DESCRIPTION:
URL:https://www.rsctu.at/termine/langlaufkurs-senioren/
LOCATION:Ramsau\, Vorberg\, Ramsau\, 8972\, Österreich
END:VEVENT
BEGIN:VEVENT
DTSTART;VALUE=DATE:20170108
DTEND;VALUE=DATE:20170116
DTSTAMP:20260421T053846
CREATED:20161015T070043Z
LAST-MODIFIED:20161017T144543Z
UID:7551-1483862400-1484467199@www.rsctu.at
SUMMARY:Monoskikurs\, 08.-14.01.2017\, Kaunertal
DESCRIPTION:
URL:https://www.rsctu.at/termine/monoskikurs-08-14-01-2017-kaunertal/
LOCATION:Hotel Weisseespitze\, Platz 30\, Kaunertal\, Tirol\, 6524\, Österreich
CATEGORIES:Ski Alpin
ORGANIZER;CN="Alois Praschberger":MAILTO:info@praschberger.com
END:VEVENT
BEGIN:VEVENT
DTSTART;VALUE=DATE:20170111
DTEND;VALUE=DATE:20170117
DTSTAMP:20260421T053846
CREATED:20160729T085559Z
LAST-MODIFIED:20161017T144700Z
UID:4741-1484121600-1484553599@www.rsctu.at
SUMMARY:Weltcuprennen Ski Alpin\, 11.01.-15.01.2017\, Innerkrems
DESCRIPTION:
URL:https://www.rsctu.at/termine/weltcup-4/
LOCATION:Innerkrems
CATEGORIES:Ski Alpin
END:VEVENT
BEGIN:VEVENT
DTSTART;VALUE=DATE:20170118
DTEND;VALUE=DATE:20170122
DTSTAMP:20260421T053846
CREATED:20160729T085339Z
LAST-MODIFIED:20161017T144843Z
UID:4738-1484726400-1484985599@www.rsctu.at
SUMMARY:Weltcuprennen Ski Alpin\, 18.01.-20.01.2017\, Kranjska Gora
DESCRIPTION:
URL:https://www.rsctu.at/termine/weltcup-3/
LOCATION:Kranjska Gora
CATEGORIES:Ski Alpin
END:VEVENT
BEGIN:VEVENT
DTSTART;VALUE=DATE:20170121
DTEND;VALUE=DATE:20170124
DTSTAMP:20260421T053846
CREATED:20160708T154851Z
LAST-MODIFIED:20161017T145032Z
UID:1395-1484985600-1485158399@www.rsctu.at
SUMMARY:Austria Cup Ski Alpin\, 21.01.-22.01.2017\, Leogang
DESCRIPTION:
URL:https://www.rsctu.at/termine/austrian-cup/
LOCATION:Leogang\, Österreich
CATEGORIES:Ski Alpin
END:VEVENT
BEGIN:VEVENT
DTSTART;VALUE=DATE:20170123
DTEND;VALUE=DATE:20170202
DTSTAMP:20260421T053846
CREATED:20160718T122041Z
LAST-MODIFIED:20161017T145138Z
UID:2986-1485158400-1485935999@www.rsctu.at
SUMMARY:Weltmeisterschaft Ski Alpin\, 23.01.-31.01.2017\, Tarvisio (ITA)
DESCRIPTION:
URL:https://www.rsctu.at/termine/weltmeisterschaft/
LOCATION:Tarvisio\, Tarvisio\, Italien
CATEGORIES:Ski Alpin
END:VEVENT
BEGIN:VEVENT
DTSTART;TZID=Europe/Vienna:20170128T090000
DTEND;TZID=Europe/Vienna:20170128T150000
DTSTAMP:20260421T053846
CREATED:20161011T101114Z
LAST-MODIFIED:20161124T110535Z
UID:7501-1485594000-1485615600@www.rsctu.at
SUMMARY:Basketball Regionalliga Süd\, 28.01.2017\, Wörgl
DESCRIPTION:
URL:https://www.rsctu.at/termine/basketball-regionalliga-sued-3/
LOCATION:Wörgl HAK / HAS\, Innsbrucker Straße 34\, Wörgl\, Tirol\, 6300\, Österreich
CATEGORIES:Basketball
ORGANIZER;CN="RSCTU":MAILTO:office@rsctu.at
END:VEVENT
END:VCALENDAR