BEGIN:VCALENDAR
VERSION:2.0
PRODID:-//Rollstuhl Sport Club Tirol Unterland - ECPv6.6.2//NONSGML v1.0//EN
CALSCALE:GREGORIAN
METHOD:PUBLISH
X-WR-CALNAME:Rollstuhl Sport Club Tirol Unterland
X-ORIGINAL-URL:https://www.rsctu.at
X-WR-CALDESC:Veranstaltungen für Rollstuhl Sport Club Tirol Unterland
REFRESH-INTERVAL;VALUE=DURATION:PT1H
X-Robots-Tag:noindex
X-PUBLISHED-TTL:PT1H
BEGIN:VTIMEZONE
TZID:Europe/Vienna
BEGIN:DAYLIGHT
TZOFFSETFROM:+0100
TZOFFSETTO:+0200
TZNAME:CEST
DTSTART:20170326T010000
END:DAYLIGHT
BEGIN:STANDARD
TZOFFSETFROM:+0200
TZOFFSETTO:+0100
TZNAME:CET
DTSTART:20171029T010000
END:STANDARD
END:VTIMEZONE
BEGIN:VEVENT
DTSTART;VALUE=DATE:20170202
DTEND;VALUE=DATE:20170209
DTSTAMP:20260421T034413
CREATED:20170125T142958Z
LAST-MODIFIED:20170126T095044Z
UID:8773-1486022400-1486540799@www.rsctu.at
SUMMARY:Weltmeisterschaft Snowboard\, 02.02.-07.02.2017\, Big White
DESCRIPTION:
URL:https://www.rsctu.at/termine/weltcuprennen-snowboard-02-02-07-02-2017-big-white/
CATEGORIES:Snowboard
END:VEVENT
BEGIN:VEVENT
DTSTART;VALUE=DATE:20170204
DTEND;VALUE=DATE:20170207
DTSTAMP:20260421T034413
CREATED:20160714T050621Z
LAST-MODIFIED:20170124T110838Z
UID:2188-1486195200-1486367999@www.rsctu.at
SUMMARY:Austria Cup Ski Alpin\, 04.02.-05.02.2017\, Planneralm
DESCRIPTION:
URL:https://www.rsctu.at/termine/austrian-cup-4/
CATEGORIES:Ski Alpin
END:VEVENT
BEGIN:VEVENT
DTSTART;VALUE=DATE:20170204
DTEND;VALUE=DATE:20170207
DTSTAMP:20260421T034413
CREATED:20170106T092906Z
LAST-MODIFIED:20170129T181225Z
UID:8471-1486195200-1486367999@www.rsctu.at
SUMMARY:2. Rollstuhlfahrer Billard Grand Prix 2016/2017\, 04.-05.02.2017\, Wels
DESCRIPTION:
URL:https://www.rsctu.at/termine/2-rollstuhlfahrer-billard-grand-prix-20162017-04-05-02-2017-wels/
LOCATION:Wels
CATEGORIES:Billard
END:VEVENT
BEGIN:VEVENT
DTSTART;VALUE=DATE:20170213
DTEND;VALUE=DATE:20170216
DTSTAMP:20260421T034413
CREATED:20160713T051344Z
LAST-MODIFIED:20170213T154333Z
UID:1779-1486972800-1487145599@www.rsctu.at
SUMMARY:Europacuprennen Ski Alpin\, 13.02.-14.02.2017\, Kranjska Gora
DESCRIPTION:
URL:https://www.rsctu.at/termine/europacup-5/
CATEGORIES:Ski Alpin
END:VEVENT
BEGIN:VEVENT
DTSTART;VALUE=DATE:20170213
DTEND;VALUE=DATE:20170220
DTSTAMP:20260421T034413
CREATED:20161017T151443Z
LAST-MODIFIED:20170125T135952Z
UID:7673-1486972800-1487491199@www.rsctu.at
SUMMARY:Weltcuprennen Snowboard\, 13.02.-18.02.2017\, La Molina
DESCRIPTION:
URL:https://www.rsctu.at/termine/weltcuprennen-snowboard-12-01-14-01-2017-la-molina/
CATEGORIES:Snowboard
END:VEVENT
BEGIN:VEVENT
DTSTART;VALUE=DATE:20170215
DTEND;VALUE=DATE:20170218
DTSTAMP:20260421T034413
CREATED:20160713T051159Z
LAST-MODIFIED:20170213T154258Z
UID:1776-1487145600-1487318399@www.rsctu.at
SUMMARY:Europacuprennen Ski Alpin\, 15.02.-16.02.2017\, Zagreb-Sljeme
DESCRIPTION:
URL:https://www.rsctu.at/termine/europacup-4/
LOCATION:Sljeme\, Kroatien
CATEGORIES:Ski Alpin
END:VEVENT
BEGIN:VEVENT
DTSTART;VALUE=DATE:20170216
DTEND;VALUE=DATE:20170220
DTSTAMP:20260421T034413
CREATED:20160921T165520Z
LAST-MODIFIED:20170213T154219Z
UID:7309-1487232000-1487491199@www.rsctu.at
SUMMARY:IPCAS-Rennen Ski Alpin\, 16.02.-18.02.2017\, Abtenau
DESCRIPTION:
URL:https://www.rsctu.at/termine/ski-alpin-ipcas-2/
LOCATION:Abtenau\, Abtenau\, 5441 \, Österreich
CATEGORIES:Ski Alpin
END:VEVENT
BEGIN:VEVENT
DTSTART;TZID=Europe/Vienna:20170218T090000
DTEND;TZID=Europe/Vienna:20170218T130000
DTSTAMP:20260421T034413
CREATED:20161011T101609Z
LAST-MODIFIED:20161015T072919Z
UID:7510-1487408400-1487422800@www.rsctu.at
SUMMARY:Basketball Regionalliga Süd\, 18.02.2017\, Bayreuth
DESCRIPTION:
URL:https://www.rsctu.at/termine/basketball-regionalliga-sued-4/
LOCATION:Bayreuth\, Deutschland
CATEGORIES:Basketball
END:VEVENT
BEGIN:VEVENT
DTSTART;VALUE=DATE:20170225
DTEND;VALUE=DATE:20170228
DTSTAMP:20260421T034413
CREATED:20170123T093416Z
LAST-MODIFIED:20170123T093416Z
UID:8708-1488009600-1488182399@www.rsctu.at
SUMMARY:ÖSTM Ski Nordisch\, 25. u. 26.02.2017\, Hohentauern
DESCRIPTION:
URL:https://www.rsctu.at/termine/oestm-ski-nordisch-25-u-26-02-2017-hohentauern/
LOCATION:Hohentauern\, Sportstrasse 9\, Hohentauern\, Steiermark\, 8785\, Österreich
ORGANIZER;CN="%C3%96sterreichischer Behindertensportverband":MAILTO:office@parasport.at
END:VEVENT
BEGIN:VEVENT
DTSTART;VALUE=DATE:20170226
DTEND;VALUE=DATE:20170228
DTSTAMP:20260421T034413
CREATED:20160712T050349Z
LAST-MODIFIED:20180124T115709Z
UID:1525-1488096000-1488182399@www.rsctu.at
SUMMARY:Austrian Cup Ski Alpin\, 26.02.2017\, Lackenhof
DESCRIPTION:
URL:https://www.rsctu.at/termine/austrian-cup-3/
LOCATION:Lackenhof
CATEGORIES:Ski Alpin
END:VEVENT
END:VCALENDAR