BEGIN:VCALENDAR
VERSION:2.0
PRODID:-//Rollstuhl Sport Club Tirol Unterland - ECPv6.6.2//NONSGML v1.0//EN
CALSCALE:GREGORIAN
METHOD:PUBLISH
X-WR-CALNAME:Rollstuhl Sport Club Tirol Unterland
X-ORIGINAL-URL:https://www.rsctu.at
X-WR-CALDESC:Veranstaltungen für Rollstuhl Sport Club Tirol Unterland
REFRESH-INTERVAL;VALUE=DURATION:PT1H
X-Robots-Tag:noindex
X-PUBLISHED-TTL:PT1H
BEGIN:VTIMEZONE
TZID:Europe/Vienna
BEGIN:DAYLIGHT
TZOFFSETFROM:+0100
TZOFFSETTO:+0200
TZNAME:CEST
DTSTART:20170326T010000
END:DAYLIGHT
BEGIN:STANDARD
TZOFFSETFROM:+0200
TZOFFSETTO:+0100
TZNAME:CET
DTSTART:20171029T010000
END:STANDARD
END:VTIMEZONE
BEGIN:VEVENT
DTSTART;VALUE=DATE:20170303
DTEND;VALUE=DATE:20170305
DTSTAMP:20260421T020021
CREATED:20170213T093012Z
LAST-MODIFIED:20170213T093012Z
UID:9037-1488528000-1488614399@www.rsctu.at
SUMMARY:30. Vereinsmeisterschaft Tischtennis\, 03.03.2017\, Lienz
DESCRIPTION:
URL:https://www.rsctu.at/termine/30-vereinsmeisterschaft-tischtennis-03-03-2017-lienz/
LOCATION:Lienz
CATEGORIES:Tischtennis
END:VEVENT
BEGIN:VEVENT
DTSTART;VALUE=DATE:20170304
DTEND;VALUE=DATE:20170307
DTSTAMP:20260421T020021
CREATED:20161017T145857Z
LAST-MODIFIED:20161017T145857Z
UID:7663-1488614400-1488787199@www.rsctu.at
SUMMARY:Austria Cup Ski Alpin\, 04.03.-05.03.2017\, Vorarlberg
DESCRIPTION:
URL:https://www.rsctu.at/termine/austria-cup-ski-alpin-04-03-05-03-2017-vorarlberg/
CATEGORIES:Ski Alpin
END:VEVENT
BEGIN:VEVENT
DTSTART;VALUE=DATE:20170304
DTEND;VALUE=DATE:20170307
DTSTAMP:20260421T020021
CREATED:20170220T085723Z
LAST-MODIFIED:20170220T085723Z
UID:9131-1488614400-1488787199@www.rsctu.at
SUMMARY:IPCAS-Rennen Ski Alpin\, 04.03.-05.03.2017\, Horni Domky
DESCRIPTION:
URL:https://www.rsctu.at/termine/ipcas-rennen-ski-alpin-04-03-05-03-2017-horni-domky/
CATEGORIES:Ski Alpin
END:VEVENT
BEGIN:VEVENT
DTSTART;VALUE=DATE:20170305
DTEND;VALUE=DATE:20170309
DTSTAMP:20260421T020021
CREATED:20160712T050415Z
LAST-MODIFIED:20161017T145946Z
UID:1524-1488700800-1488959999@www.rsctu.at
SUMMARY:Weltcuprennen Ski Alpin\, 05.03.-07.03.2017\, Hakuba
DESCRIPTION:
URL:https://www.rsctu.at/termine/weltcup-2/
LOCATION:Hakuba\, Hakuba\, Japan
CATEGORIES:Ski Alpin
END:VEVENT
BEGIN:VEVENT
DTSTART;VALUE=DATE:20170308
DTEND;VALUE=DATE:20170315
DTSTAMP:20260421T020021
CREATED:20160811T094140Z
LAST-MODIFIED:20161017T135651Z
UID:5870-1488960000-1489478399@www.rsctu.at
SUMMARY:Weltcuprennen Snowboard\, 08.03.-13.03.2017\, PyeongChang
DESCRIPTION:
URL:https://www.rsctu.at/termine/snowboard-weltcup-3/
LOCATION:PyeongChang\, Südkorea
CATEGORIES:Snowboard
END:VEVENT
BEGIN:VEVENT
DTSTART;VALUE=DATE:20170309
DTEND;VALUE=DATE:20170320
DTSTAMP:20260421T020021
CREATED:20160711T050230Z
LAST-MODIFIED:20161017T150020Z
UID:1518-1489046400-1489910399@www.rsctu.at
SUMMARY:Weltcuprennen Ski Alpin\, 09.03.-18.03.2017\, PyeongChang
DESCRIPTION:
URL:https://www.rsctu.at/termine/weltcup/
LOCATION:PyeongChang\, Südkorea
CATEGORIES:Ski Alpin
END:VEVENT
BEGIN:VEVENT
DTSTART;VALUE=DATE:20170310
DTEND;VALUE=DATE:20170314
DTSTAMP:20260421T020021
CREATED:20161121T145325Z
LAST-MODIFIED:20161124T093722Z
UID:7975-1489132800-1489391999@www.rsctu.at
SUMMARY:Gesamttiroler Meisterschaft Ski Alpin\, 10.03.-12.03.2017\, Meran 2000
DESCRIPTION:
URL:https://www.rsctu.at/termine/gesamt-tiroler-meisterschaft-ski-alpin-2017/
LOCATION:Meran 2000\, Italien
CATEGORIES:Ski Alpin
ORGANIZER;CN="Sportgruppe f%C3%BCr K%C3%B6rperbehinderte S%C3%BCdtirols":MAILTO:michl76@gmx.net
END:VEVENT
BEGIN:VEVENT
DTSTART;TZID=Europe/Vienna:20170312T090000
DTEND;TZID=Europe/Vienna:20170312T150000
DTSTAMP:20260421T020021
CREATED:20161011T103322Z
LAST-MODIFIED:20161125T121709Z
UID:7515-1489309200-1489330800@www.rsctu.at
SUMMARY:Basketball Regionalliga Süd\, 12.03.2017\, Wörgl
DESCRIPTION: 
URL:https://www.rsctu.at/termine/basketball-regionalliga-sued-6/
LOCATION:Wörgl HAK / HAS\, Innsbrucker Straße 34\, Wörgl\, Tirol\, 6300\, Österreich
CATEGORIES:Basketball
ORGANIZER;CN="RSCTU":MAILTO:office@rsctu.at
END:VEVENT
BEGIN:VEVENT
DTSTART;VALUE=DATE:20170317
DTEND;VALUE=DATE:20170323
DTSTAMP:20260421T020021
CREATED:20161017T152152Z
LAST-MODIFIED:20161017T152152Z
UID:7679-1489737600-1490169599@www.rsctu.at
SUMMARY:Europacuprennen Snowboard\, 17.03.-21.03.2017\, Rogla
DESCRIPTION:
URL:https://www.rsctu.at/termine/europacuprennen-snowboard-17-03-21-03-2017-rogla/
LOCATION:Rogla\, Slovenien
CATEGORIES:Snowboard
END:VEVENT
BEGIN:VEVENT
DTSTART;VALUE=DATE:20170318
DTEND;VALUE=DATE:20170321
DTSTAMP:20260421T020021
CREATED:20160718T122248Z
LAST-MODIFIED:20180124T115658Z
UID:1780-1489824000-1489996799@www.rsctu.at
SUMMARY:Austrian Cup Ski Alpin\, 18.03.-19.03.2017\, Oberösterreich
DESCRIPTION:
URL:https://www.rsctu.at/termine/austrian-cup-5/
CATEGORIES:Ski Alpin
END:VEVENT
BEGIN:VEVENT
DTSTART;TZID=Europe/Vienna:20170318T090000
DTEND;TZID=Europe/Vienna:20170318T130000
DTSTAMP:20260421T020021
CREATED:20161011T133619Z
LAST-MODIFIED:20161015T072702Z
UID:7526-1489827600-1489842000@www.rsctu.at
SUMMARY:Basketball Regionalliga Süd\, 18.03.2017\, Rif
DESCRIPTION:19\n10:00\nRSV Baskets Salzburg 1\nRSC Tirol\n\n\n19\n12:00\nRSC Tirol\nPSC Pforzheim 1\n\n\n19\n14:00\nRSV Baskets Salzburg 1\nPSC Pforzheim 1
URL:https://www.rsctu.at/termine/basketball-regionalliga-sued-7/
LOCATION:Salzburg\, ULSZ Rif\, Hartmannweg 4-6\, Rif\,  Hallein\, Salzburg\, 5400\, Österreich
CATEGORIES:Basketball
END:VEVENT
BEGIN:VEVENT
DTSTART;VALUE=DATE:20170324
DTEND;VALUE=DATE:20170328
DTSTAMP:20260421T020021
CREATED:20160708T134712Z
LAST-MODIFIED:20170124T111217Z
UID:1361-1490342400-1490601599@www.rsctu.at
SUMMARY:Österreichische Meisterschaft Ski Alpin\, 24.03.-26.03.2017\, Hinterstoder
DESCRIPTION:
URL:https://www.rsctu.at/termine/europacup/
LOCATION:Hinterstoder\, Hinterstoder
CATEGORIES:Ski Alpin
END:VEVENT
BEGIN:VEVENT
DTSTART;VALUE=DATE:20170329
DTEND;VALUE=DATE:20170402
DTSTAMP:20260421T020021
CREATED:20160708T154457Z
LAST-MODIFIED:20170220T090035Z
UID:1367-1490774400-1491033599@www.rsctu.at
SUMMARY:Europacuprennen Ski Alpin\, 29.03.-31.03.2017\, Veysonnaz
DESCRIPTION:
URL:https://www.rsctu.at/termine/europacup-2/
CATEGORIES:Ski Alpin
END:VEVENT
END:VCALENDAR