BEGIN:VCALENDAR
VERSION:2.0
PRODID:-//Rollstuhl Sport Club Tirol Unterland - ECPv6.6.2//NONSGML v1.0//EN
CALSCALE:GREGORIAN
METHOD:PUBLISH
X-ORIGINAL-URL:https://www.rsctu.at
X-WR-CALDESC:Veranstaltungen für Rollstuhl Sport Club Tirol Unterland
REFRESH-INTERVAL;VALUE=DURATION:PT1H
X-Robots-Tag:noindex
X-PUBLISHED-TTL:PT1H
BEGIN:VTIMEZONE
TZID:Europe/Vienna
BEGIN:DAYLIGHT
TZOFFSETFROM:+0100
TZOFFSETTO:+0200
TZNAME:CEST
DTSTART:20170326T010000
END:DAYLIGHT
BEGIN:STANDARD
TZOFFSETFROM:+0200
TZOFFSETTO:+0100
TZNAME:CET
DTSTART:20171029T010000
END:STANDARD
END:VTIMEZONE
BEGIN:VEVENT
DTSTART;TZID=Europe/Vienna:20170802T123000
DTEND;TZID=Europe/Vienna:20170802T160000
DTSTAMP:20260420T174408
CREATED:20170727T110140Z
LAST-MODIFIED:20170731T064935Z
UID:10075-1501677000-1501689600@www.rsctu.at
SUMMARY:Handbike Tour Mittwochrunde
DESCRIPTION:Treffpunkt ist um 13.30 bei der Firma Praschberger\, Abfahrt pünktlich um 14.00 Uhr. \nSollte aufgrund schlechten Wetters das Handbiken ausfallen\, fällt die Mittwochrunde aus. Im RZ wie immer TT\, KK\, Schwimmen\, Sauna.
URL:https://www.rsctu.at/termine/handbike-tour-mittwochrunde/
LOCATION:Praschberger\, Sebi 9\, Niederndorf\, Tirol\, 6342\, Österreich
CATEGORIES:Handbike
END:VEVENT
BEGIN:VEVENT
DTSTART;TZID=Europe/Vienna:20170828T100000
DTEND;TZID=Europe/Vienna:20170828T103000
DTSTAMP:20260420T174408
CREATED:20170828T050132Z
LAST-MODIFIED:20170828T050132Z
UID:10371-1503914400-1503916200@www.rsctu.at
SUMMARY:Ankunft von Handbiker Wolfgang Timischl
DESCRIPTION:
URL:https://www.rsctu.at/termine/ankunft-von-handbiker-wolfgang-timischl/
LOCATION:RZ Häring\, Rehaweg 1\, Bad Häring\, 6323\, Österreich
CATEGORIES:Handbike
END:VEVENT
END:VCALENDAR