BEGIN:VCALENDAR
VERSION:2.0
PRODID:-//Rollstuhl Sport Club Tirol Unterland - ECPv6.6.2//NONSGML v1.0//EN
CALSCALE:GREGORIAN
METHOD:PUBLISH
X-WR-CALNAME:Rollstuhl Sport Club Tirol Unterland
X-ORIGINAL-URL:https://www.rsctu.at
X-WR-CALDESC:Veranstaltungen für Rollstuhl Sport Club Tirol Unterland
REFRESH-INTERVAL;VALUE=DURATION:PT1H
X-Robots-Tag:noindex
X-PUBLISHED-TTL:PT1H
BEGIN:VTIMEZONE
TZID:Europe/Vienna
BEGIN:DAYLIGHT
TZOFFSETFROM:+0100
TZOFFSETTO:+0200
TZNAME:CEST
DTSTART:20170326T010000
END:DAYLIGHT
BEGIN:STANDARD
TZOFFSETFROM:+0200
TZOFFSETTO:+0100
TZNAME:CET
DTSTART:20171029T010000
END:STANDARD
END:VTIMEZONE
BEGIN:VEVENT
DTSTART;VALUE=DATE:20170902
DTEND;VALUE=DATE:20170904
DTSTAMP:20260420T161050
CREATED:20170810T065945Z
LAST-MODIFIED:20170810T072237Z
UID:10145-1504339200-1504425599@www.rsctu.at
SUMMARY:TM Rollstuhltennis 2017\, Doppel
DESCRIPTION:
URL:https://www.rsctu.at/termine/tm-rollstuhltennis-2017-doppel/
LOCATION:Schwaz\, Alte Landstraße 1\, Schwaz\, Tirol\, 6130\, Österreich
CATEGORIES:Tennis
END:VEVENT
BEGIN:VEVENT
DTSTART;VALUE=DATE:20170902
DTEND;VALUE=DATE:20170905
DTSTAMP:20260420T161050
CREATED:20170809T051230Z
LAST-MODIFIED:20170809T051230Z
UID:10141-1504339200-1504511999@www.rsctu.at
SUMMARY:Sportmodul „Rollstuhltanzsport im Behindertensport“
DESCRIPTION:
URL:https://www.rsctu.at/termine/sportmodul-rollstuhltanzsport-im-behindertensport/
CATEGORIES:Weitere Sportarten
ORGANIZER;CN="%C3%96sterreichischer Behindertensportverband":MAILTO:office@parasport.at
END:VEVENT
BEGIN:VEVENT
DTSTART;VALUE=DATE:20170903
DTEND;VALUE=DATE:20170911
DTSTAMP:20260420T161050
CREATED:20161011T051210Z
LAST-MODIFIED:20161017T133746Z
UID:7468-1504425600-1505030399@www.rsctu.at
SUMMARY:Trainingslager Basketball\, 03.09.-09.09.2017\, Faak am See
DESCRIPTION:
URL:https://www.rsctu.at/termine/basketball-trainingslager/
LOCATION:Faak Bundessport- und Freizeitzentrum\, Halbinselstr. 14\, Finkenstein\, 9583\, Österreich
CATEGORIES:Basketball
END:VEVENT
BEGIN:VEVENT
DTSTART;VALUE=DATE:20170905
DTEND;VALUE=DATE:20170907
DTSTAMP:20260420T161050
CREATED:20170731T101608Z
LAST-MODIFIED:20170731T101644Z
UID:10090-1504598400-1504684799@www.rsctu.at
SUMMARY:Spinal Cord Injury Day 2017
DESCRIPTION:
URL:https://www.rsctu.at/termine/spinal-cord-injury-day-2017/
END:VEVENT
BEGIN:VEVENT
DTSTART;VALUE=DATE:20170908
DTEND;VALUE=DATE:20170911
DTSTAMP:20260420T161050
CREATED:20170810T071534Z
LAST-MODIFIED:20170810T071805Z
UID:10157-1504857600-1505030399@www.rsctu.at
SUMMARY:TM Rollstuhltennis Einzel
DESCRIPTION:  \n  \n 
URL:https://www.rsctu.at/termine/tm-rollstuhltennis-einzel/
LOCATION:Schwaz\, Alte Landstraße 1\, Schwaz\, Tirol\, 6130\, Österreich
CATEGORIES:Tennis
END:VEVENT
BEGIN:VEVENT
DTSTART;VALUE=DATE:20170910
DTEND;VALUE=DATE:20170912
DTSTAMP:20260420T161050
CREATED:20170727T113233Z
LAST-MODIFIED:20170802T100726Z
UID:10080-1505030400-1505116799@www.rsctu.at
SUMMARY:Tiroler Meisterschaft Leichtathletik\, 10.09.2017\, Wattens
DESCRIPTION: 
URL:https://www.rsctu.at/termine/27-tiroler-leichtathletik-meisterschaft/
LOCATION:Alpenstadion\, Dr. Karl-Stainer Straße 30\, Wattens\, Tirol\, 6112\, Österreich
CATEGORIES:Leichtathletik
END:VEVENT
BEGIN:VEVENT
DTSTART;VALUE=DATE:20170916
DTEND;VALUE=DATE:20170919
DTSTAMP:20260420T161050
CREATED:20161231T091904Z
LAST-MODIFIED:20170706T110220Z
UID:8419-1505548800-1505721599@www.rsctu.at
SUMMARY:Österreichische Meisterschaft Tischtennis-Mannschaft\, 16.09.-17.09.2017\, Stockerau
DESCRIPTION: 
URL:https://www.rsctu.at/termine/oestm-tt-mannschaft-herbst-16-09-17-17-09-17-stockerau/
LOCATION:Stockerau\, Sportzentrum Alte Au\, Stockerau\, 2000
CATEGORIES:Tischtennis
END:VEVENT
BEGIN:VEVENT
DTSTART;VALUE=DATE:20170923
DTEND;VALUE=DATE:20170925
DTSTAMP:20260420T161050
CREATED:20170802T091148Z
LAST-MODIFIED:20170802T091148Z
UID:10111-1506153600-1506239999@www.rsctu.at
SUMMARY:Basketballturnier Ulm 2017
DESCRIPTION: 
URL:https://www.rsctu.at/termine/basketballturnier-ulm-2017/
LOCATION:Ulm TSG Söflingen\, Harthauser Str.99\, Ulm\, 89081\, Deutschland
CATEGORIES:Basketball
END:VEVENT
BEGIN:VEVENT
DTSTART;VALUE=DATE:20170923
DTEND;VALUE=DATE:20170925
DTSTAMP:20260420T161050
CREATED:20170910T174739Z
LAST-MODIFIED:20170910T174739Z
UID:10401-1506153600-1506239999@www.rsctu.at
SUMMARY:Tag des Sports 2017
DESCRIPTION:Im Bereich des Behindertensports werden heuer folgende Athletinnen und Athleten geehrt: Janina FALK\, Thomas GEIERSPICHLER\, Kurt MARTINSCHITZ\, Patrick MOOR\, Thomas GROCHAR\, Markus GFATTERHOFER\, Reinhold SCHETT\, Lukas KÄFER\, Melissa KÖCK\, Christoph LEBELHUBER\, Raphael PETR\, Heidi MACKOWITZ\, Markus SALCHER\, Carina EDLINGER\, Claudia LÖSCH\, Krisztian GARDOS\, Andreas ONEA\, Markus Mendy SWOBODA\, Günther MATZINGER\, Pepo PUCH\, Walter ABLINGER\, Natalija EDER\, Thomas FRÜHWIRTH.
URL:https://www.rsctu.at/termine/tag-des-sports-2017/
LOCATION:Sportplatz Prater\, Wien\, Wien\, Österreich
CATEGORIES:Weitere Sportarten
END:VEVENT
BEGIN:VEVENT
DTSTART;VALUE=DATE:20170929
DTEND;VALUE=DATE:20171003
DTSTAMP:20260420T161050
CREATED:20170330T113847Z
LAST-MODIFIED:20170425T080420Z
UID:9477-1506672000-1506931199@www.rsctu.at
SUMMARY:Österreichische Meisterschaft Rollstuhltennis Mannschaft\, 29.09.-01.10.2017\, Leibnitz
DESCRIPTION: 
URL:https://www.rsctu.at/termine/oesterreichische-meisterschaft-mannschaft-tennis/
LOCATION:Leibnitz\, Rudolf-Hans-Bartsch-Gasse 16\, Leibnitz\, Steiermark\, 8430\, Österreich
CATEGORIES:Tennis
ORGANIZER;CN="%C3%96sterreichischer Behindertensportverband":MAILTO:office@parasport.at
END:VEVENT
BEGIN:VEVENT
DTSTART;VALUE=DATE:20170929
DTEND;VALUE=DATE:20171003
DTSTAMP:20260420T161050
CREATED:20170703T081821Z
LAST-MODIFIED:20170704T103039Z
UID:9937-1506672000-1506931199@www.rsctu.at
SUMMARY:Österreichische Meisterschaft Sportschiessen\, 29.09.-01.10.2017\, Kapfenberg
DESCRIPTION: 
URL:https://www.rsctu.at/termine/36-offene-oestm-sportschiessen/
LOCATION:Kapfenberg\, Sporthotel Grabner + Schießstand Graschitz\, Kapfenberg\, Steiermark\, 8605\, Österreich
CATEGORIES:Sportschiessen
ORGANIZER;CN="%C3%96sterreichischer Behindertensportverband":MAILTO:office@parasport.at
END:VEVENT
BEGIN:VEVENT
DTSTART;VALUE=DATE:20170929
DTEND;VALUE=DATE:20171003
DTSTAMP:20260420T161050
CREATED:20170809T050629Z
LAST-MODIFIED:20170809T050629Z
UID:10138-1506672000-1506931199@www.rsctu.at
SUMMARY:Übungsleiterausbildung im Behindertensport Termin Basismodul 2017
DESCRIPTION:Anmeldeschluss 11.08.2017
URL:https://www.rsctu.at/termine/uebungsleiterausbildung-im-behindertensport-termin-basismodul-2017/
CATEGORIES:Weitere Sportarten
ORGANIZER;CN="%C3%96sterreichischer Behindertensportverband":MAILTO:office@parasport.at
END:VEVENT
END:VCALENDAR