BEGIN:VCALENDAR
VERSION:2.0
PRODID:-//Rollstuhl Sport Club Tirol Unterland - ECPv6.6.2//NONSGML v1.0//EN
CALSCALE:GREGORIAN
METHOD:PUBLISH
X-ORIGINAL-URL:https://www.rsctu.at
X-WR-CALDESC:Veranstaltungen für Rollstuhl Sport Club Tirol Unterland
REFRESH-INTERVAL;VALUE=DURATION:PT1H
X-Robots-Tag:noindex
X-PUBLISHED-TTL:PT1H
BEGIN:VTIMEZONE
TZID:Europe/Vienna
BEGIN:DAYLIGHT
TZOFFSETFROM:+0100
TZOFFSETTO:+0200
TZNAME:CEST
DTSTART:20170326T010000
END:DAYLIGHT
BEGIN:STANDARD
TZOFFSETFROM:+0200
TZOFFSETTO:+0100
TZNAME:CET
DTSTART:20171029T010000
END:STANDARD
END:VTIMEZONE
BEGIN:VEVENT
DTSTART;VALUE=DATE:20171104
DTEND;VALUE=DATE:20171106
DTSTAMP:20260420T131834
CREATED:20170927T103112Z
LAST-MODIFIED:20171019T134216Z
UID:10516-1509782400-1509868799@www.rsctu.at
SUMMARY:Drehtag mit SOKO Kitzbühel
DESCRIPTION:
URL:https://www.rsctu.at/termine/drehtag-mit-soko-kitzbuehel/
LOCATION:RZ Häring\, Rehaweg 1\, Bad Häring\, 6323\, Österreich
CATEGORIES:Basketball
END:VEVENT
BEGIN:VEVENT
DTSTART;VALUE=DATE:20171107
DTEND;VALUE=DATE:20171110
DTSTAMP:20260420T131834
CREATED:20170813T073914Z
LAST-MODIFIED:20170813T074259Z
UID:10188-1510041600-1510214399@www.rsctu.at
SUMMARY:IPCAS-Rennen Ski Alpin\, 07.11.-08.11.2017\, Landgraaf
DESCRIPTION:
URL:https://www.rsctu.at/termine/ipcas-rennen-ski-alpin-07-11-08-11-2017-landgraaf/
CATEGORIES:Ski Alpin
END:VEVENT
BEGIN:VEVENT
DTSTART;VALUE=DATE:20171109
DTEND;VALUE=DATE:20171112
DTSTAMP:20260420T131834
CREATED:20170813T074006Z
LAST-MODIFIED:20170813T074701Z
UID:10190-1510214400-1510387199@www.rsctu.at
SUMMARY:Europacuprennen Ski Alpin\, 09.11.-10.11.2017\, Landgraaf
DESCRIPTION:
URL:https://www.rsctu.at/termine/europacuprennen-ski-alpin-09-11-10-11-2017-landgraaf/
CATEGORIES:Ski Alpin
END:VEVENT
BEGIN:VEVENT
DTSTART;VALUE=DATE:20171109
DTEND;VALUE=DATE:20171114
DTSTAMP:20260420T131834
CREATED:20171011T134955Z
LAST-MODIFIED:20171014T064220Z
UID:10649-1510214400-1510559999@www.rsctu.at
SUMMARY:TSV / TBSV / Snowclan\, 1. Skitraining
DESCRIPTION:1. Skitraining am Kaunertaler Gletscher SNOWCLAN+TBSV+TSV Kaunertaler Gletscher\nDo. 09.11.2017: Anreise im Hotel Weisseespitz\nFr. 10.11.2017: Freies Einfahren\, Techniktraining\nSa. 11.11.2017: Techniktraining\, Stangentraining\nSo. 12.11.2017: Techniktraining\, Stangentraining u. Heimreise \nAnmeldung bis Montag\, 30. Oktober 2017\nunter office@snowclan.at oder bei Chrissi unter 0650 585 11 73
URL:https://www.rsctu.at/termine/1-skitraining/
LOCATION:Kaunertal\, Feichten \, Tirol\, 6524\, Österreich
CATEGORIES:Ski Alpin
END:VEVENT
BEGIN:VEVENT
DTSTART;VALUE=DATE:20171112
DTEND;VALUE=DATE:20171120
DTSTAMP:20260420T131834
CREATED:20170809T045903Z
LAST-MODIFIED:20170809T045903Z
UID:10134-1510473600-1511078399@www.rsctu.at
SUMMARY:Carving und Technik Kurs Monoski
DESCRIPTION:Anmeldeschluss 1. Oktober 2017
URL:https://www.rsctu.at/termine/carving-und-technik-kurs-monoski/
LOCATION:Kaunertal\, Feichten \, Tirol\, 6524\, Österreich
CATEGORIES:Ski Alpin
END:VEVENT
BEGIN:VEVENT
DTSTART;VALUE=DATE:20171114
DTEND;VALUE=DATE:20171116
DTSTAMP:20260420T131834
CREATED:20170813T092117Z
LAST-MODIFIED:20170813T092117Z
UID:10236-1510646400-1510732799@www.rsctu.at
SUMMARY:Europacuprennen Snowboard\, 14.11.2017\, Landgraaf
DESCRIPTION:
URL:https://www.rsctu.at/termine/europacuprennen-snowboard-14-11-2017-landgraaf/
CATEGORIES:Snowboard
END:VEVENT
BEGIN:VEVENT
DTSTART;VALUE=DATE:20171115
DTEND;VALUE=DATE:20171118
DTSTAMP:20260420T131834
CREATED:20170813T092205Z
LAST-MODIFIED:20170813T092205Z
UID:10238-1510732800-1510905599@www.rsctu.at
SUMMARY:Weltcuprennen Snowboard\, 15.11.-16.11.2017\, Landgraaf
DESCRIPTION:
URL:https://www.rsctu.at/termine/weltcuprennen-snowboard-15-11-16-11-2017-landgraaf/
CATEGORIES:Snowboard
END:VEVENT
BEGIN:VEVENT
DTSTART;VALUE=DATE:20171118
DTEND;VALUE=DATE:20171120
DTSTAMP:20260420T131834
CREATED:20170913T133122Z
LAST-MODIFIED:20171026T073524Z
UID:10429-1510992000-1511078399@www.rsctu.at
SUMMARY:24. Rolli-Geher Turnier\, 18.11.2017\, Schwaz
DESCRIPTION:
URL:https://www.rsctu.at/termine/rolli-geher-turnier/
LOCATION:Schwaz\, Alte Landstraße 1\, Schwaz\, Tirol\, 6130\, Österreich
CATEGORIES:Tennis
END:VEVENT
BEGIN:VEVENT
DTSTART;VALUE=DATE:20171119
DTEND;VALUE=DATE:20171121
DTSTAMP:20260420T131834
CREATED:20170625T083650Z
LAST-MODIFIED:20171003T104505Z
UID:9872-1511078400-1511164799@www.rsctu.at
SUMMARY:Basketball Regionalliga Süd\, 19.11.2017\, Tübingen
DESCRIPTION:10:00 Uhr   Tübingen 1 – Tirol\n12:00 Uhr   Tirol – USC München 2\n14:00 Uhr   Tübingen 1 – USC München 2
URL:https://www.rsctu.at/termine/basketball-regionalliga-sued-19-11-2017-tuebingen/
CATEGORIES:Basketball
END:VEVENT
BEGIN:VEVENT
DTSTART;TZID=Europe/Vienna:20171129T123000
DTEND;TZID=Europe/Vienna:20171129T170000
DTSTAMP:20260420T131834
CREATED:20170928T065706Z
LAST-MODIFIED:20171026T073332Z
UID:10527-1511958600-1511974800@www.rsctu.at
SUMMARY:Coloplast Rolli Racketlon\, 29.11.2017\, RZ Häring
DESCRIPTION:
URL:https://www.rsctu.at/termine/coloplast-rolli-racketlon-2017/
LOCATION:RZ Häring\, Rehaweg 1\, Bad Häring\, 6323\, Österreich
END:VEVENT
BEGIN:VEVENT
DTSTART;VALUE=DATE:20171130
DTEND;VALUE=DATE:20171204
DTSTAMP:20260420T131834
CREATED:20170813T092346Z
LAST-MODIFIED:20170813T092346Z
UID:10240-1512028800-1512287999@www.rsctu.at
SUMMARY:Weltcuprennen Snowboard\, 30.11.-02.12.2017\, Pyha
DESCRIPTION:
URL:https://www.rsctu.at/termine/weltcuprennen-snowboard-30-11-02-12-2017-pyha/
CATEGORIES:Snowboard
END:VEVENT
END:VCALENDAR