BEGIN:VCALENDAR
VERSION:2.0
PRODID:-//Rollstuhl Sport Club Tirol Unterland - ECPv6.6.2//NONSGML v1.0//EN
CALSCALE:GREGORIAN
METHOD:PUBLISH
X-ORIGINAL-URL:https://www.rsctu.at
X-WR-CALDESC:Veranstaltungen für Rollstuhl Sport Club Tirol Unterland
REFRESH-INTERVAL;VALUE=DURATION:PT1H
X-Robots-Tag:noindex
X-PUBLISHED-TTL:PT1H
BEGIN:VTIMEZONE
TZID:Europe/Vienna
BEGIN:DAYLIGHT
TZOFFSETFROM:+0100
TZOFFSETTO:+0200
TZNAME:CEST
DTSTART:20170326T010000
END:DAYLIGHT
BEGIN:STANDARD
TZOFFSETFROM:+0200
TZOFFSETTO:+0100
TZNAME:CET
DTSTART:20171029T010000
END:STANDARD
END:VTIMEZONE
BEGIN:VEVENT
DTSTART;VALUE=DATE:20171130
DTEND;VALUE=DATE:20171204
DTSTAMP:20260420T130552
CREATED:20170813T092346Z
LAST-MODIFIED:20170813T092346Z
UID:10240-1512028800-1512287999@www.rsctu.at
SUMMARY:Weltcuprennen Snowboard\, 30.11.-02.12.2017\, Pyha
DESCRIPTION:
URL:https://www.rsctu.at/termine/weltcuprennen-snowboard-30-11-02-12-2017-pyha/
CATEGORIES:Snowboard
END:VEVENT
BEGIN:VEVENT
DTSTART;VALUE=DATE:20171202
DTEND;VALUE=DATE:20171204
DTSTAMP:20260420T130552
CREATED:20170625T083805Z
LAST-MODIFIED:20170917T122850Z
UID:9874-1512201600-1512287999@www.rsctu.at
SUMMARY:Basketball Regionalliga Süd\, 02.12.2017\, München
DESCRIPTION:10:00 Uhr   RBB München 2 – Rosenheim\n12:00 Uhr   Rosenheim – Tirol\n14:00 Uhr   RBB München 2 –  Tirol
URL:https://www.rsctu.at/termine/basketball-regionalliga-sued-02-12-2017-muenchen/
CATEGORIES:Basketball
END:VEVENT
BEGIN:VEVENT
DTSTART;VALUE=DATE:20171206
DTEND;VALUE=DATE:20171209
DTSTAMP:20260420T130552
CREATED:20170813T074624Z
LAST-MODIFIED:20170813T074624Z
UID:10192-1512547200-1512719999@www.rsctu.at
SUMMARY:Europacuprennen Ski Alpin\, 06.12.-07.12.2017\, Pitztal
DESCRIPTION:
URL:https://www.rsctu.at/termine/europacuprennen-ski-alpin-06-12-07-12-2017-pitztal/
CATEGORIES:Ski Alpin
END:VEVENT
BEGIN:VEVENT
DTSTART;VALUE=DATE:20171207
DTEND;VALUE=DATE:20171212
DTSTAMP:20260420T130552
CREATED:20171014T064338Z
LAST-MODIFIED:20171014T064338Z
UID:10671-1512633600-1512979199@www.rsctu.at
SUMMARY:TSV / TBSV / Snowclan\, 2. Skitraining
DESCRIPTION:2. Skitraining am Kaunertaler Gletscher SNOWCLAN+TBSV+TSV Kaunertaler Gletscher
URL:https://www.rsctu.at/termine/tsv-tbsv-snowclan-2-skitraining/
LOCATION:Kaunertal\, Feichten \, Tirol\, 6524\, Österreich
CATEGORIES:Ski Alpin
END:VEVENT
BEGIN:VEVENT
DTSTART;VALUE=DATE:20171208
DTEND;VALUE=DATE:20171212
DTSTAMP:20260420T130552
CREATED:20170813T074809Z
LAST-MODIFIED:20170813T074809Z
UID:10194-1512720000-1512979199@www.rsctu.at
SUMMARY:IPCAS-Rennen Ski Alpin\, 08.12.-10.12.2017\, Pitztal
DESCRIPTION:
URL:https://www.rsctu.at/termine/ipcas-rennen-ski-alpin-08-12-10-12-2017-pitztal/
CATEGORIES:Ski Alpin
END:VEVENT
BEGIN:VEVENT
DTSTART;VALUE=DATE:20171212
DTEND;VALUE=DATE:20171219
DTSTAMP:20260420T130552
CREATED:20170813T075030Z
LAST-MODIFIED:20170813T075030Z
UID:10196-1513065600-1513583999@www.rsctu.at
SUMMARY:Weltcuprennen Ski Alpin\, 12.12.-17.12.2017\, St. Moritz
DESCRIPTION:
URL:https://www.rsctu.at/termine/weltcuprennen-ski-alpin-12-12-17-12-2017-st-moritz/
CATEGORIES:Ski Alpin
END:VEVENT
BEGIN:VEVENT
DTSTART;TZID=Europe/Vienna:20171214T190000
DTEND;TZID=Europe/Vienna:20171214T220000
DTSTAMP:20260420T130552
CREATED:20171020T061431Z
LAST-MODIFIED:20171020T061506Z
UID:10692-1513278000-1513288800@www.rsctu.at
SUMMARY:BB Weihnachtsfeier
DESCRIPTION:
URL:https://www.rsctu.at/termine/bb-weihnachtsfeier/
CATEGORIES:Basketball
END:VEVENT
BEGIN:VEVENT
DTSTART;VALUE=DATE:20171219
DTEND;VALUE=DATE:20171224
DTSTAMP:20260420T130552
CREATED:20170813T075151Z
LAST-MODIFIED:20170813T075151Z
UID:10198-1513670400-1514015999@www.rsctu.at
SUMMARY:Weltcuprennen Ski Alpin\, 19.12.-22.12.2017\, Kühtai
DESCRIPTION:
URL:https://www.rsctu.at/termine/weltcuprennen-ski-alpin-19-12-22-12-2017-kuehtai/
CATEGORIES:Ski Alpin
END:VEVENT
BEGIN:VEVENT
DTSTART;VALUE=DATE:20171226
DTEND;VALUE=DATE:20171229
DTSTAMP:20260420T130552
CREATED:20171026T073822Z
LAST-MODIFIED:20171026T073822Z
UID:10720-1514275200-1514447999@www.rsctu.at
SUMMARY:Wintercamp für Kinder und Jugendliche\, 26.-27.12.2017\, Schwaz
DESCRIPTION:
URL:https://www.rsctu.at/termine/wintercamp-fuer-kinder-und-jugendliche-26-27-12-2017-schwaz/
LOCATION:Schwaz\, Alte Landstraße 1\, Schwaz\, Tirol\, 6130\, Österreich
CATEGORIES:Tennis
END:VEVENT
END:VCALENDAR