BEGIN:VCALENDAR
VERSION:2.0
PRODID:-//Rollstuhl Sport Club Tirol Unterland - ECPv6.6.2//NONSGML v1.0//EN
CALSCALE:GREGORIAN
METHOD:PUBLISH
X-ORIGINAL-URL:https://www.rsctu.at
X-WR-CALDESC:Veranstaltungen für Rollstuhl Sport Club Tirol Unterland
REFRESH-INTERVAL;VALUE=DURATION:PT1H
X-Robots-Tag:noindex
X-PUBLISHED-TTL:PT1H
BEGIN:VTIMEZONE
TZID:Europe/Vienna
BEGIN:DAYLIGHT
TZOFFSETFROM:+0100
TZOFFSETTO:+0200
TZNAME:CEST
DTSTART:20180325T010000
END:DAYLIGHT
BEGIN:STANDARD
TZOFFSETFROM:+0200
TZOFFSETTO:+0100
TZNAME:CET
DTSTART:20181028T010000
END:STANDARD
END:VTIMEZONE
BEGIN:VEVENT
DTSTART;VALUE=DATE:20180303
DTEND;VALUE=DATE:20180305
DTSTAMP:20260420T071420
CREATED:20180124T114902Z
LAST-MODIFIED:20180124T114902Z
UID:11212-1520064000-1520150399@www.rsctu.at
SUMMARY:Österreichischer ÖBSV-Cup Tischtennis\, 03.03.2018\, Deutschlandsberg
DESCRIPTION: 
URL:https://www.rsctu.at/termine/oesterreichischer-oebsv-cup-tischtennis-03-03-2018-deutschlandsberg/
LOCATION:Deutschlandsberg
CATEGORIES:Tischtennis
ORGANIZER;CN="%C3%96sterreichischer Behindertensportverband":MAILTO:office@parasport.at
END:VEVENT
BEGIN:VEVENT
DTSTART;VALUE=DATE:20180303
DTEND;VALUE=DATE:20180306
DTSTAMP:20260420T071420
CREATED:20170813T081255Z
LAST-MODIFIED:20180124T115605Z
UID:10224-1520064000-1520236799@www.rsctu.at
SUMMARY:Austrian Cup Ski Alpin\, 03.03.-04.03.2018\, Kärnten/Steiermark
DESCRIPTION: 
URL:https://www.rsctu.at/termine/austria-cup-ski-alpin-03-03-04-03-2018-kaerntensteiermark/
LOCATION:Innerkrems
CATEGORIES:Ski Alpin
END:VEVENT
BEGIN:VEVENT
DTSTART;VALUE=DATE:20180309
DTEND;VALUE=DATE:20180313
DTSTAMP:20260420T071420
CREATED:20170813T081347Z
LAST-MODIFIED:20180124T115623Z
UID:10226-1520582400-1520841599@www.rsctu.at
SUMMARY:Austrian Cup Ski Alpin\, 09.03.-11.03.2018\, Vorarlberg
DESCRIPTION:
URL:https://www.rsctu.at/termine/austria-cup-ski-alpin-09-03-11-03-2018-vorarlberg/
CATEGORIES:Ski Alpin
END:VEVENT
BEGIN:VEVENT
DTSTART;VALUE=DATE:20180309
DTEND;VALUE=DATE:20180320
DTSTAMP:20260420T071420
CREATED:20160811T095037Z
LAST-MODIFIED:20170813T081048Z
UID:5875-1520582400-1521446399@www.rsctu.at
SUMMARY:Paralympics 2018\, 09.03.-18.03.2018\, PyeongChang (KOR)
DESCRIPTION:
URL:https://www.rsctu.at/termine/paralympics-2018/
LOCATION:Pyeongchang Paralympics 2018\, Südkorea
CATEGORIES:Para Bob,Ski Alpin,Snowboard
END:VEVENT
BEGIN:VEVENT
DTSTART;VALUE=DATE:20180323
DTEND;VALUE=DATE:20180327
DTSTAMP:20260420T071420
CREATED:20170813T081457Z
LAST-MODIFIED:20180102T101837Z
UID:10228-1521792000-1522051199@www.rsctu.at
SUMMARY:Österreichische Meisterschaft Ski Alpin\, 23.03.-25.03.2018\, Steinach
DESCRIPTION: 
URL:https://www.rsctu.at/termine/oesterreichische-meisterschaft-ski-alpin-23-03-25-03-2018-steinach/
CATEGORIES:Ski Alpin
END:VEVENT
BEGIN:VEVENT
DTSTART;VALUE=DATE:20180325
DTEND;VALUE=DATE:20180327
DTSTAMP:20260420T071420
CREATED:20170625T084808Z
LAST-MODIFIED:20180319T195206Z
UID:9883-1521964800-1522051199@www.rsctu.at
SUMMARY:Basketball Regionalliga Süd\, 25.03.2018\, Stuttgart
DESCRIPTION:12:00 Uhr   Stuttgart –  Tirol                                       \n14:00 Uhr   Tirol – RBB München 2\n16:00 Uhr   Stuttgart – RBB München 2
URL:https://www.rsctu.at/termine/basketball-regionalliga-sued-25-03-2018-stuttgart/
CATEGORIES:Basketball
END:VEVENT
BEGIN:VEVENT
DTSTART;VALUE=DATE:20180326
DTEND;VALUE=DATE:20180330
DTSTAMP:20260420T071420
CREATED:20170813T081617Z
LAST-MODIFIED:20170813T081724Z
UID:10230-1522051200-1522310399@www.rsctu.at
SUMMARY:Europacuprennen Ski Alpin\, 26.03.-28.03.2018\, Obersaxen
DESCRIPTION:
URL:https://www.rsctu.at/termine/europacuprennen-ski-alpin-28-03-30-03-2018-obersaxen/
CATEGORIES:Ski Alpin
END:VEVENT
BEGIN:VEVENT
DTSTART;VALUE=DATE:20180329
DTEND;VALUE=DATE:20180401
DTSTAMP:20260420T071420
CREATED:20170813T081855Z
LAST-MODIFIED:20170813T081855Z
UID:10234-1522310400-1522483199@www.rsctu.at
SUMMARY:IPCAS-Rennen Ski Alpin\, 29.03.-30.03.2018\, Obersaxen
DESCRIPTION:
URL:https://www.rsctu.at/termine/ipcas-rennen-ski-alpin-29-03-30-03-2018-obersaxen/
CATEGORIES:Ski Alpin
END:VEVENT
END:VCALENDAR