BEGIN:VCALENDAR
VERSION:2.0
PRODID:-//Rollstuhl Sport Club Tirol Unterland - ECPv6.6.2//NONSGML v1.0//EN
CALSCALE:GREGORIAN
METHOD:PUBLISH
X-WR-CALNAME:Rollstuhl Sport Club Tirol Unterland
X-ORIGINAL-URL:https://www.rsctu.at
X-WR-CALDESC:Veranstaltungen für Rollstuhl Sport Club Tirol Unterland
REFRESH-INTERVAL;VALUE=DURATION:PT1H
X-Robots-Tag:noindex
X-PUBLISHED-TTL:PT1H
BEGIN:VTIMEZONE
TZID:Europe/Vienna
BEGIN:DAYLIGHT
TZOFFSETFROM:+0100
TZOFFSETTO:+0200
TZNAME:CEST
DTSTART:20180325T010000
END:DAYLIGHT
BEGIN:STANDARD
TZOFFSETFROM:+0200
TZOFFSETTO:+0100
TZNAME:CET
DTSTART:20181028T010000
END:STANDARD
END:VTIMEZONE
BEGIN:VEVENT
DTSTART;VALUE=DATE:20180402
DTEND;VALUE=DATE:20180404
DTSTAMP:20260420T053837
CREATED:20180319T152258Z
LAST-MODIFIED:20180319T152258Z
UID:11707-1522656000-1522742399@www.rsctu.at
SUMMARY:Snowclanskitag 2018
DESCRIPTION:9:00 Uhr Hahnenkammbahn\, Kitzbühel\nUnkostenbeitrag: 10 Euro pro Person\nAnmeldung bis 29.03.: hausberg@kitz.net
URL:https://www.rsctu.at/termine/snowclanskitag-2018/
CATEGORIES:Ski Alpin,Snowboard
END:VEVENT
BEGIN:VEVENT
DTSTART;VALUE=DATE:20180402
DTEND;VALUE=DATE:20180410
DTSTAMP:20260420T053837
CREATED:20170917T130446Z
LAST-MODIFIED:20170917T130542Z
UID:10445-1522656000-1523260799@www.rsctu.at
SUMMARY:Monoski/Biskikurs Kinder und Jugendliche
DESCRIPTION:
URL:https://www.rsctu.at/termine/monoskibiskikurs-kinder-und-jugendliche/
LOCATION:Kaunertal\, Feichten \, Tirol\, 6524\, Österreich
CATEGORIES:Ski Alpin
ORGANIZER;CN="%C3%96sterreichischer Behindertensportverband":MAILTO:office@parasport.at
END:VEVENT
BEGIN:VEVENT
DTSTART;VALUE=DATE:20180402
DTEND;VALUE=DATE:20180410
DTSTAMP:20260420T053837
CREATED:20170917T130933Z
LAST-MODIFIED:20170917T131002Z
UID:10450-1522656000-1523260799@www.rsctu.at
SUMMARY:Racecamp Kinder und Jugendliche mit Behinderung
DESCRIPTION:
URL:https://www.rsctu.at/termine/racecamp-kinder-und-jugendliche-mit-behinderung/
LOCATION:Kaunertal\, Feichten \, Tirol\, 6524\, Österreich
CATEGORIES:Ski Alpin
ORGANIZER;CN="%C3%96sterreichischer Behindertensportverband":MAILTO:office@parasport.at
END:VEVENT
BEGIN:VEVENT
DTSTART;TZID=Europe/Vienna:20180406T170000
DTEND;TZID=Europe/Vienna:20180406T180000
DTSTAMP:20260420T053837
CREATED:20180302T083946Z
LAST-MODIFIED:20180302T083946Z
UID:11432-1523034000-1523037600@www.rsctu.at
SUMMARY:SOKO Kitzbühel mit dem RSC Basketballteam\, ZDF
DESCRIPTION:Ein toter Rollstuhlfahrer wurde aus dem Schwarzsee geborgen. Gerichtsmedizinerin Dr. Löcker und ein Spurensicherer machen ihre Arbeit. \nBernd Schober\, Trainer des Rollstuhl-Basketballteams „Rolling Gams“\, wird tot aus einem See gezogen. Er saß in einem Rollstuhl\, jedoch ohne medizinischen Grund. Schobers Bruder und Geschäftspartner Max steht unter Schock\, gibt der SOKO aber einen Hinweis auf den querschnittsgelähmten Sportaktivisten Tim Weixler. Weixler ist der eifersüchtige Ehemann von Claudia\, der attraktiven Assistentin der Schober-Brüder. Hannes Kofler erzählt\, dass Weixler und Bernd Schober in seinem Restaurant heftig gestritten haben. Es ging darum\, ob der ehemalige Starspieler der „Rolling Gams“\, Axel Kronlachner\, wieder ins Team aufgenommen werden sollte oder nicht. (Text: ZDF)
URL:https://www.rsctu.at/termine/soko-kitzbuehel-mit-dem-rsc-basketballteam-zdf/
CATEGORIES:Basketball
END:VEVENT
BEGIN:VEVENT
DTSTART;TZID=Europe/Vienna:20180407T070000
DTEND;TZID=Europe/Vienna:20180407T170000
DTSTAMP:20260420T053837
CREATED:20180312T093830Z
LAST-MODIFIED:20180315T065722Z
UID:11602-1523084400-1523120400@www.rsctu.at
SUMMARY:ÖBSV Para-Archery Workshop inkl. Klassifizierung
DESCRIPTION:Anmeldungen für externe Sportler bis 30.März 2018 per Mail an para-archery@oebsv.com \nZeitplan:\n08:00 Eintreffen\n09:00 – 09:30 Theorie\, Grundlagen und Physiotherapie – How to fill up „Para_Athlete_Medical_Intake_Form“\n09:30 – 11:30 Vorstellung Bogensport incl. Testen für Patienten im Rahmen der Therapie\nMittagspause\n12:30 – 14:30 Training incl. Patienten und Mitarbeiter des RZ\nPause\n15:00 – 17:00 Training incl. Patienten und Mitarbeiter des RZ
URL:https://www.rsctu.at/termine/oebsv-para-archery-workshop-inkl-klassifizierung/
LOCATION:RZ Häring\, Rehaweg 1\, Bad Häring\, 6323\, Österreich
CATEGORIES:Weitere Sportarten
END:VEVENT
BEGIN:VEVENT
DTSTART;VALUE=DATE:20180408
DTEND;VALUE=DATE:20180417
DTSTAMP:20260420T053837
CREATED:20170928T101126Z
LAST-MODIFIED:20170928T101126Z
UID:10537-1523174400-1523865599@www.rsctu.at
SUMMARY:Instruktorausbildung Behindertenskilauf 1. Kursteil
DESCRIPTION:
URL:https://www.rsctu.at/termine/instruktorausbildung-behindertenskilauf-1-kursteil/
LOCATION:Hochfügen
CATEGORIES:Ski Alpin
END:VEVENT
BEGIN:VEVENT
DTSTART;TZID=Europe/Vienna:20180411T173000
DTEND;TZID=Europe/Vienna:20180411T200000
DTSTAMP:20260420T053837
CREATED:20180302T092358Z
LAST-MODIFIED:20180302T092358Z
UID:11438-1523467800-1523476800@www.rsctu.at
SUMMARY:Empfang der Paralympic und WM Teilnehmer/innen
DESCRIPTION:
URL:https://www.rsctu.at/termine/empfang-der-paralympic-und-wm-teilnehmer-innen/
LOCATION:RZ Häring\, Rehaweg 1\, Bad Häring\, 6323\, Österreich
CATEGORIES:Ski Alpin,Snowboard
END:VEVENT
BEGIN:VEVENT
DTSTART;VALUE=DATE:20180414
DTEND;VALUE=DATE:20180417
DTSTAMP:20260420T053837
CREATED:20171012T104528Z
LAST-MODIFIED:20180113T083555Z
UID:10664-1523692800-1523865599@www.rsctu.at
SUMMARY:Österreichische Staatsmeisterschaft Tischtennis Einzel\, 14.04.-15.04.2018\, Kufstein
DESCRIPTION: 
URL:https://www.rsctu.at/termine/oestm-tichtennis/
LOCATION:Kufstein
CATEGORIES:Tischtennis
END:VEVENT
BEGIN:VEVENT
DTSTART;TZID=Europe/Vienna:20180418T173000
DTEND;TZID=Europe/Vienna:20180418T183000
DTSTAMP:20260420T053837
CREATED:20180302T085911Z
LAST-MODIFIED:20180302T092009Z
UID:11435-1524072600-1524076200@www.rsctu.at
SUMMARY:Vortrag
DESCRIPTION:„Steuerliche Begünstigungen für Menschen mit Behinderungen\nund chronischen Erkrankungen“\nMenschen mit Behinderungen sind oft mit erhöhten Ausgaben im täglichen Leben konfrontiert – für Hilfsmittel\, Medikamente\, Kur- und Therapiekosten\, Fahrtkosten\, etc. – die schnell zu einer finanziellen Belastung werden!\nZur Entlastung von Betroffenen sieht die Steuergesetzgebung eine Reihe von steuerlichen Absetzmöglichkeiten vor. Im Vortrag gewähren zwei Steuerfachleute einen Überblick über die wichtigsten steuerlichen Begünstigungen und stehen für Fragen zur Verfügung.\nVortragende: Alois Weisleitner (ÖZIV BV Schwaz\, Mitarbeiter beim Finanzamt)\nHeike Moroder (Steuerexpertin)
URL:https://www.rsctu.at/termine/vortrag/
LOCATION:RZ Häring\, Rehaweg 1\, Bad Häring\, 6323\, Österreich
END:VEVENT
BEGIN:VEVENT
DTSTART;VALUE=DATE:20180428
DTEND;VALUE=DATE:20180501
DTSTAMP:20260420T053837
CREATED:20180122T095639Z
LAST-MODIFIED:20180124T114452Z
UID:11192-1524902400-1525075199@www.rsctu.at
SUMMARY:Österreichische Staatsmeisterschaft Tischtennis Mannschaft\, 28.-29.04.2018\, Voitsberg
DESCRIPTION:
URL:https://www.rsctu.at/termine/oesterreichischen-staatsmeisterschaft-tischtennis-mannschaft-f-rollstuhlfahrer/
CATEGORIES:Tischtennis
ORGANIZER;CN="%C3%96sterreichischer Behindertensportverband":MAILTO:office@parasport.at
END:VEVENT
BEGIN:VEVENT
DTSTART;VALUE=DATE:20180429
DTEND;VALUE=DATE:20180430
DTSTAMP:20260420T053837
CREATED:20180409T173100Z
LAST-MODIFIED:20180409T173100Z
UID:11797-1524988800-1524988800@www.rsctu.at
SUMMARY:Tiroler Meisterschaften Leichtathletik
DESCRIPTION:
URL:https://www.rsctu.at/termine/tiroler-meisterschaften-leichtathletik/
CATEGORIES:Leichtathletik
END:VEVENT
END:VCALENDAR