BEGIN:VCALENDAR
VERSION:2.0
PRODID:-//Rollstuhl Sport Club Tirol Unterland - ECPv6.6.2//NONSGML v1.0//EN
CALSCALE:GREGORIAN
METHOD:PUBLISH
X-WR-CALNAME:Rollstuhl Sport Club Tirol Unterland
X-ORIGINAL-URL:https://www.rsctu.at
X-WR-CALDESC:Veranstaltungen für Rollstuhl Sport Club Tirol Unterland
REFRESH-INTERVAL;VALUE=DURATION:PT1H
X-Robots-Tag:noindex
X-PUBLISHED-TTL:PT1H
BEGIN:VTIMEZONE
TZID:Europe/Vienna
BEGIN:DAYLIGHT
TZOFFSETFROM:+0100
TZOFFSETTO:+0200
TZNAME:CEST
DTSTART:20180325T010000
END:DAYLIGHT
BEGIN:STANDARD
TZOFFSETFROM:+0200
TZOFFSETTO:+0100
TZNAME:CET
DTSTART:20181028T010000
END:STANDARD
END:VTIMEZONE
BEGIN:VEVENT
DTSTART;TZID=Europe/Vienna:20180509T120000
DTEND;TZID=Europe/Vienna:20180509T150000
DTSTAMP:20260420T035312
CREATED:20180418T062204Z
LAST-MODIFIED:20180425T175746Z
UID:11846-1525867200-1525878000@www.rsctu.at
SUMMARY:Sommersport - Nachmittag im RZ Häring
DESCRIPTION:Schwerpunkt: Vorstellung Segelsport mit Behinderung\n(SCTWV Achensee mit Ansprechpartner und Trainer Reini Glanz)\nRennbike\nHandbike\nTennis
URL:https://www.rsctu.at/termine/sommersport-nachmittag-im-rz-haering/
LOCATION:RZ Häring\, Rehaweg 1\, Bad Häring\, 6323\, Österreich
CATEGORIES:Handbike,Tennis,Weitere Sportarten
END:VEVENT
BEGIN:VEVENT
DTSTART;VALUE=DATE:20180512
DTEND;VALUE=DATE:20180513
DTSTAMP:20260420T035312
CREATED:20171216T084914Z
LAST-MODIFIED:20171216T084914Z
UID:10985-1526112000-1526112000@www.rsctu.at
SUMMARY:Staffeltag RLS
DESCRIPTION:
URL:https://www.rsctu.at/termine/staffeltag-rls/
LOCATION:Ulm\, Harthauser Straße 99\,\, Ulm\, 89081 \, Deutschland
CATEGORIES:Basketball
END:VEVENT
BEGIN:VEVENT
DTSTART;TZID=Europe/Vienna:20180516T173000
DTEND;TZID=Europe/Vienna:20180516T193000
DTSTAMP:20260420T035312
CREATED:20180423T095829Z
LAST-MODIFIED:20180427T051107Z
UID:11863-1526491800-1526499000@www.rsctu.at
SUMMARY:Wolfgang Timischl\, ein Film von Walter Wegscheider
DESCRIPTION:
URL:https://www.rsctu.at/termine/wolfgang-timischl-ein-film-von-walter-wegscheider/
LOCATION:RZ Häring\, Rehaweg 1\, Bad Häring\, 6323\, Österreich
CATEGORIES:Handbike
ORGANIZER;CN="RSCTU":MAILTO:office@rsctu.at
END:VEVENT
BEGIN:VEVENT
DTSTART;VALUE=DATE:20180518
DTEND;VALUE=DATE:20180522
DTSTAMP:20260420T035312
CREATED:20180221T085354Z
LAST-MODIFIED:20180221T085410Z
UID:11385-1526630400-1526889599@www.rsctu.at
SUMMARY:Österreichische Staatsmeisterschaft Tennis\, 18.-20.05.2018\, Bad Ischl
DESCRIPTION:Erstmalig ist das Turnier im ÖTV-Turnierkalender zu finden unter https://www.oetv.at/turniere/kalender/detail/t/125081.html . \nHier werden alle teilnehmenden Spieler gebeten\, sich mit Ihrer ÖTV-Spielerlizenz + Geburtsdatum + Sportpassnummer (im Feld Bemerkungen unter Schritt 2) anzumelden. \nDie ÖTV-Spielerlizenz erhalten die Spieler durch die Eingabe ihres Spielerprofiles im ÖTV-Datenbanksystem ‚nu-system‘\, was über den jeweiligen Landesreferenten bzw. falls keiner vorhanden\, über ÖTV-Referentin Katharina Heigl geschieht. \nSomit muss die Nennung (aller Spieler\, auch Kids/Jugendliche) heuer per \n\nÖBSV-Nennformular\nOnline-Anmeldung auf ÖTV-Turnierseite\n\ngeschehen.
URL:https://www.rsctu.at/termine/oesterreichische-staatsmeisterschaft-tennis-18-20-05-2018-bad-ischl/
LOCATION:Bad Ischl\, Engleitenstrasse 6\, Bad Ischl\, 4820
CATEGORIES:Tennis
END:VEVENT
BEGIN:VEVENT
DTSTART;VALUE=DATE:20180519
DTEND;VALUE=DATE:20180522
DTSTAMP:20260420T035312
CREATED:20180417T051524Z
LAST-MODIFIED:20180417T051524Z
UID:11841-1526716800-1526889599@www.rsctu.at
SUMMARY:3. Internationaler Wheelchair Grand Prix Turnier
DESCRIPTION:Datum Samstag\, 19.05. – Sonntag\, 20.05.2018 \nBeginn 12:00 Uhr  \nDisziplin 10-Ball \nAustragungsort Niners Billard \n  \n 
URL:https://www.rsctu.at/termine/3-internationaler-wheelchair-grand-prix-turnier/
CATEGORIES:Billard
END:VEVENT
BEGIN:VEVENT
DTSTART;VALUE=DATE:20180520
DTEND;VALUE=DATE:20180522
DTSTAMP:20260420T035312
CREATED:20180128T134531Z
LAST-MODIFIED:20180128T134531Z
UID:11247-1526803200-1526889599@www.rsctu.at
SUMMARY:Benekickt'z 2018
DESCRIPTION:
URL:https://www.rsctu.at/termine/benekicktz-2018/
LOCATION:Waldstadion\, Oberkoflerweg\, Sistrans\, Tirol\, 6073\, Österreich
CATEGORIES:Basketball,Tischtennis,Weitere Sportarten
END:VEVENT
BEGIN:VEVENT
DTSTART;VALUE=DATE:20180526
DTEND;VALUE=DATE:20180528
DTSTAMP:20260420T035312
CREATED:20171020T060951Z
LAST-MODIFIED:20180201T124131Z
UID:10690-1527321600-1527407999@www.rsctu.at
SUMMARY:RSC Tirol Cup\, Basketball\, 26.05.2018\, Wörgl
DESCRIPTION:
URL:https://www.rsctu.at/termine/rsc-tirol-cup-basketball-26-05-2018-woergl/
LOCATION:Wörgl HAK / HAS\, Innsbrucker Straße 34\, Wörgl\, Tirol\, 6300\, Österreich
CATEGORIES:Basketball
ORGANIZER;CN="RSCTU":MAILTO:office@rsctu.at
END:VEVENT
BEGIN:VEVENT
DTSTART;VALUE=DATE:20180527
DTEND;VALUE=DATE:20180604
DTSTAMP:20260420T035312
CREATED:20180120T084206Z
LAST-MODIFIED:20180120T084328Z
UID:11173-1527408000-1528012799@www.rsctu.at
SUMMARY:BEHINDERTENSPORTWOCHE 2018
DESCRIPTION:
URL:https://www.rsctu.at/termine/behindertensportwoche-2018/
LOCATION:Schieleiten\, Vockenberg 81\, Stubenberg\, Oststeiermark\, 8223\, Österreich
CATEGORIES:Leichtathletik,Weitere Sportarten
ORGANIZER;CN="%C3%96sterreichischer Behindertensportverband":MAILTO:office@parasport.at
END:VEVENT
END:VCALENDAR