BEGIN:VCALENDAR
VERSION:2.0
PRODID:-//Rollstuhl Sport Club Tirol Unterland - ECPv6.6.2//NONSGML v1.0//EN
CALSCALE:GREGORIAN
METHOD:PUBLISH
X-WR-CALNAME:Rollstuhl Sport Club Tirol Unterland
X-ORIGINAL-URL:https://www.rsctu.at
X-WR-CALDESC:Veranstaltungen für Rollstuhl Sport Club Tirol Unterland
REFRESH-INTERVAL;VALUE=DURATION:PT1H
X-Robots-Tag:noindex
X-PUBLISHED-TTL:PT1H
BEGIN:VTIMEZONE
TZID:Europe/Vienna
BEGIN:DAYLIGHT
TZOFFSETFROM:+0100
TZOFFSETTO:+0200
TZNAME:CEST
DTSTART:20180325T010000
END:DAYLIGHT
BEGIN:STANDARD
TZOFFSETFROM:+0200
TZOFFSETTO:+0100
TZNAME:CET
DTSTART:20181028T010000
END:STANDARD
END:VTIMEZONE
BEGIN:VEVENT
DTSTART;TZID=Europe/Vienna:20180831T100000
DTEND;TZID=Europe/Vienna:20180902T123000
DTSTAMP:20260419T210614
CREATED:20180727T132835Z
LAST-MODIFIED:20180727T132835Z
UID:12378-1535709600-1535891400@www.rsctu.at
SUMMARY:Rollstuhltennis Camp
DESCRIPTION:ANMELDUNG BIS: Montag\, 20. August 2018  \nANMELDUNG AN Katharina Heigl\, rollstuhltennis@oetv.at
URL:https://www.rsctu.at/termine/rollstuhltennis-camp/
LOCATION:Bad Ischl\, Engleitenstrasse 6\, Bad Ischl\, 4820
CATEGORIES:Tennis
END:VEVENT
BEGIN:VEVENT
DTSTART;VALUE=DATE:20180901
DTEND;VALUE=DATE:20180903
DTSTAMP:20260419T210614
CREATED:20180717T050334Z
LAST-MODIFIED:20180717T090244Z
UID:12302-1535792400-1535878799@www.rsctu.at
SUMMARY:Tiroler Meisterschaften Tennis 2018 Offener Jugendbewerb Einzel
DESCRIPTION: 
URL:https://www.rsctu.at/termine/tiroler-meisterschaften-tennis-2018-offener-jugendbewerb-einzel/
LOCATION:Schwaz\, Alte Landstraße 1\, Schwaz\, Tirol\, 6130\, Österreich
CATEGORIES:Tennis
END:VEVENT
BEGIN:VEVENT
DTSTART;VALUE=DATE:20180902
DTEND;VALUE=DATE:20180910
DTSTAMP:20260419T210614
CREATED:20180625T103613Z
LAST-MODIFIED:20180625T103613Z
UID:12140-1535878800-1536483599@www.rsctu.at
SUMMARY:VQÖ Sportwoche Herbst 2018
DESCRIPTION:
URL:https://www.rsctu.at/termine/vqoe-sportwoche-herbst-2018/
LOCATION:Obertraun Bundessport- und Freizeitzentrum\, Winkl 49\, Obertraun\, 4831\, Österreich
CATEGORIES:Tischtennis,Weitere Sportarten
END:VEVENT
BEGIN:VEVENT
DTSTART;VALUE=DATE:20180907
DTEND;VALUE=DATE:20180911
DTSTAMP:20260419T210614
CREATED:20180607T135830Z
LAST-MODIFIED:20180703T060237Z
UID:12099-1536307200-1536566399@www.rsctu.at
SUMMARY:Österreichische Meisterschaft Tennis Mannschaft\, Salzburg
DESCRIPTION: 
URL:https://www.rsctu.at/termine/oesterreichische-meisterschaft-tennis-mannschaft-07-09-09-2018-salzburg/
CATEGORIES:Tennis
ORGANIZER;CN="%C3%96sterreichischer Behindertensportverband":MAILTO:office@parasport.at
END:VEVENT
BEGIN:VEVENT
DTSTART;VALUE=DATE:20180909
DTEND;VALUE=DATE:20180917
DTSTAMP:20260419T210614
CREATED:20180125T115807Z
LAST-MODIFIED:20180703T060204Z
UID:11238-1536480000-1537084799@www.rsctu.at
SUMMARY:Gesundheits-Fitnesskurs in Faak am See
DESCRIPTION:
URL:https://www.rsctu.at/termine/gesundheits-fitnesskurs-vom-09-15-09-2018-in-faak-am-see/
LOCATION:Faak Bundessport- und Freizeitzentrum\, Halbinselstr. 14\, Finkenstein\, 9583\, Österreich
CATEGORIES:Weitere Sportarten
ORGANIZER;CN="%C3%96sterreichischer Behindertensportverband":MAILTO:office@parasport.at
END:VEVENT
BEGIN:VEVENT
DTSTART;VALUE=DATE:20180915
DTEND;VALUE=DATE:20180918
DTSTAMP:20260419T210614
CREATED:20180705T133543Z
LAST-MODIFIED:20180705T133543Z
UID:12234-1537002000-1537174799@www.rsctu.at
SUMMARY:Österreichische Meisterschaft Sportschiessen\, Wien
DESCRIPTION:
URL:https://www.rsctu.at/termine/oesterreichische-meisterschaft-sportschiessen-wien/
CATEGORIES:Sportschiessen
END:VEVENT
BEGIN:VEVENT
DTSTART;TZID=Europe/Vienna:20180922T090000
DTEND;TZID=Europe/Vienna:20180922T220000
DTSTAMP:20260419T210614
CREATED:20180827T092130Z
LAST-MODIFIED:20180827T095523Z
UID:12511-1537606800-1537653600@www.rsctu.at
SUMMARY:Basketball Turnier 2018\, Leifers
DESCRIPTION:11.30 SEREGNO : TIROLO \n10.15 TIROLO : ALBATROS \n12.30 PRANZO \n15.00 TIROLO : VERONA \nPremiazioni: 20.30 c/o SALA del CENTRO GIOVANILE “DON BOSCO” (LAIVES)
URL:https://www.rsctu.at/termine/basketball-turnier-2018-leifers/
LOCATION:Leifers\, Passaggio Scolastico Maria Damian\, 2\, Laives\, Bozen\, 39055\, Italien
CATEGORIES:Basketball
END:VEVENT
BEGIN:VEVENT
DTSTART;VALUE=DATE:20180922
DTEND;VALUE=DATE:20180924
DTSTAMP:20260419T210614
CREATED:20180703T055248Z
LAST-MODIFIED:20180703T055248Z
UID:12166-1537606800-1537693199@www.rsctu.at
SUMMARY:Tag des Sports
DESCRIPTION:
URL:https://www.rsctu.at/termine/tag-des-sports-2/
LOCATION:Wien
END:VEVENT
BEGIN:VEVENT
DTSTART;VALUE=DATE:20180922
DTEND;VALUE=DATE:20180924
DTSTAMP:20260419T210614
CREATED:20180703T060109Z
LAST-MODIFIED:20180703T060109Z
UID:12170-1537606800-1537693199@www.rsctu.at
SUMMARY:Radtag mit Alois Praschberger
DESCRIPTION:
URL:https://www.rsctu.at/termine/radtag-mit-alois-praschberger/
CATEGORIES:Handbike
END:VEVENT
BEGIN:VEVENT
DTSTART;TZID=Europe/Vienna:20180923T080000
DTEND;TZID=Europe/Vienna:20180923T170000
DTSTAMP:20260419T210614
CREATED:20180923T094344Z
LAST-MODIFIED:20180923T094413Z
UID:12710-1537689600-1537722000@www.rsctu.at
SUMMARY:Betreuerkurs Monoski/Biski
DESCRIPTION:Termin: 22.-25. November 2018 im Kaunertal\nAnmeldeschluss: 22. Oktober 2018\nInformation und Anmeldung: Mag. Bettina Mössenböck\, bettina.moessenboeck(at)univie.ac.at
URL:https://www.rsctu.at/termine/betreuerkurs-monoski-biski/
END:VEVENT
BEGIN:VEVENT
DTSTART;TZID=Europe/Vienna:20180929T081500
DTEND;TZID=Europe/Vienna:20180930T180000
DTSTAMP:20260419T210614
CREATED:20180910T090848Z
LAST-MODIFIED:20180912T112652Z
UID:12584-1538208900-1538330400@www.rsctu.at
SUMMARY:ÖSTM Tischtennis Mannschaft und B-Meisterschaft
DESCRIPTION: \n\n 
URL:https://www.rsctu.at/termine/oestm-tischtennis-mannschaft-und-b-meisterschaft/
LOCATION:Landessportzentrum VIVA\, Industriegelände 1\, Steinbrunn\, 7035
CATEGORIES:Tischtennis
ORGANIZER;CN="%C3%96sterreichischer Behindertensportverband":MAILTO:office@parasport.at
END:VEVENT
BEGIN:VEVENT
DTSTART;VALUE=DATE:20180929
DTEND;VALUE=DATE:20181001
DTSTAMP:20260419T210614
CREATED:20180709T064352Z
LAST-MODIFIED:20180902T092147Z
UID:12236-1538211600-1538297999@www.rsctu.at
SUMMARY:Behindertensport bewegt Tirol
DESCRIPTION:
URL:https://www.rsctu.at/termine/behindertensport-bewegt-tirol/
LOCATION:USI Innsbruck\, Fürstenweg 185\, Innsbruck\, Tirol\, 6020\, Österreich
CATEGORIES:Basketball,Handbike,Leichtathletik,Ski Alpin,Tennis,Tischtennis,Weitere Sportarten
ORGANIZER;CN="%C3%96sterreichischer Behindertensportverband":MAILTO:office@parasport.at
END:VEVENT
BEGIN:VEVENT
DTSTART;TZID=Europe/Vienna:20180930T140000
DTEND;TZID=Europe/Vienna:20180930T160000
DTSTAMP:20260419T210614
CREATED:20180731T115938Z
LAST-MODIFIED:20180827T101201Z
UID:12388-1538316000-1538323200@www.rsctu.at
SUMMARY:2. BL Süd
DESCRIPTION:RSV Salzburg : RSC Tirol
URL:https://www.rsctu.at/termine/2-bl-sued/
LOCATION:Universitäts- und Landessportzentrum Salzburg\, Hartmannweg 4-6\, Hallein\, 5400\, Russland / Russische Föderation
CATEGORIES:Basketball
END:VEVENT
END:VCALENDAR