BEGIN:VCALENDAR
VERSION:2.0
PRODID:-//Rollstuhl Sport Club Tirol Unterland - ECPv6.6.2//NONSGML v1.0//EN
CALSCALE:GREGORIAN
METHOD:PUBLISH
X-WR-CALNAME:Rollstuhl Sport Club Tirol Unterland
X-ORIGINAL-URL:https://www.rsctu.at
X-WR-CALDESC:Veranstaltungen für Rollstuhl Sport Club Tirol Unterland
REFRESH-INTERVAL;VALUE=DURATION:PT1H
X-Robots-Tag:noindex
X-PUBLISHED-TTL:PT1H
BEGIN:VTIMEZONE
TZID:Europe/Vienna
BEGIN:DAYLIGHT
TZOFFSETFROM:+0100
TZOFFSETTO:+0200
TZNAME:CEST
DTSTART:20180325T010000
END:DAYLIGHT
BEGIN:STANDARD
TZOFFSETFROM:+0200
TZOFFSETTO:+0100
TZNAME:CET
DTSTART:20181028T010000
END:STANDARD
END:VTIMEZONE
BEGIN:VEVENT
DTSTART;TZID=Europe/Vienna:20181003T140000
DTEND;TZID=Europe/Vienna:20181003T170000
DTSTAMP:20260419T192901
CREATED:20180927T070821Z
LAST-MODIFIED:20180927T071225Z
UID:12742-1538575200-1538586000@www.rsctu.at
SUMMARY:Mittwochrunde Handbike
DESCRIPTION:Mittwoch\, 3.10.\, letzte Handbiketour – nur bei Schönwetter. Abfahrt ist pünktlich um 14.00 in Wörgl beim Interspar-Parkplatz. Die Runde führt Richtung Kramsach und retour\, Einkehrschwung voraussichtlich in Radfeld.  Im RZ ist TT\, KK\, Schwimmen und Sauna angeboten. \nNUR FÜR MITTWOCHRUNDE! \n 
URL:https://www.rsctu.at/termine/mittwochrunde-handbike/
CATEGORIES:Handbike
END:VEVENT
BEGIN:VEVENT
DTSTART;TZID=Europe/Vienna:20181006T090000
DTEND;TZID=Europe/Vienna:20181006T170000
DTSTAMP:20260419T192901
CREATED:20180910T091926Z
LAST-MODIFIED:20180912T113924Z
UID:12592-1538816400-1538845200@www.rsctu.at
SUMMARY:ÖBSV Cup Tischtennis
DESCRIPTION: \n\n 
URL:https://www.rsctu.at/termine/oebsv-cup-tischtennis/
LOCATION:Stockerau\, Sportzentrum Alte Au\, Stockerau\, 2000
CATEGORIES:Tischtennis
END:VEVENT
BEGIN:VEVENT
DTSTART;TZID=Europe/Vienna:20181013T100000
DTEND;TZID=Europe/Vienna:20181013T190000
DTSTAMP:20260419T192901
CREATED:20180911T112420Z
LAST-MODIFIED:20180912T115055Z
UID:12609-1539424800-1539457200@www.rsctu.at
SUMMARY:28. offene TLM Sportschießen
DESCRIPTION: 
URL:https://www.rsctu.at/termine/28-offene-tlm-sportschiessen/
LOCATION:Schießstand\, Lahntal 5c\, Wörgl\, 6300\, Österreich
CATEGORIES:Sportschiessen
END:VEVENT
BEGIN:VEVENT
DTSTART;TZID=Europe/Vienna:20181021T130000
DTEND;TZID=Europe/Vienna:20181021T170000
DTSTAMP:20260419T192901
CREATED:20180731T125428Z
LAST-MODIFIED:20181003T071742Z
UID:12392-1540126800-1540141200@www.rsctu.at
SUMMARY:2. BL Süd\, Wörgl
DESCRIPTION:RSC Tirol : SGK Rolling Chocolate
URL:https://www.rsctu.at/termine/2-bl-sued-2/
LOCATION:Wörgl HAK / HAS\, Innsbrucker Straße 34\, Wörgl\, Tirol\, 6300\, Österreich
CATEGORIES:Basketball
END:VEVENT
END:VCALENDAR