BEGIN:VCALENDAR
VERSION:2.0
PRODID:-//Rollstuhl Sport Club Tirol Unterland - ECPv6.6.2//NONSGML v1.0//EN
CALSCALE:GREGORIAN
METHOD:PUBLISH
X-ORIGINAL-URL:https://www.rsctu.at
X-WR-CALDESC:Veranstaltungen für Rollstuhl Sport Club Tirol Unterland
REFRESH-INTERVAL;VALUE=DURATION:PT1H
X-Robots-Tag:noindex
X-PUBLISHED-TTL:PT1H
BEGIN:VTIMEZONE
TZID:Europe/Vienna
BEGIN:DAYLIGHT
TZOFFSETFROM:+0100
TZOFFSETTO:+0200
TZNAME:CEST
DTSTART:20180325T010000
END:DAYLIGHT
BEGIN:STANDARD
TZOFFSETFROM:+0200
TZOFFSETTO:+0100
TZNAME:CET
DTSTART:20181028T010000
END:STANDARD
END:VTIMEZONE
BEGIN:VEVENT
DTSTART;VALUE=DATE:20181103
DTEND;VALUE=DATE:20181105
DTSTAMP:20260419T174212
CREATED:20180924T053159Z
LAST-MODIFIED:20180924T053159Z
UID:12722-1541235600-1541321999@www.rsctu.at
SUMMARY:Tiroler Meisterschaften Tennis 2018 Offener Jugendbewerb Einzel
DESCRIPTION: 
URL:https://www.rsctu.at/termine/tiroler-meisterschaften-tennis-2018-offener-jugendbewerb-einzel-2/
LOCATION:Tennishalle Silberberg Schwaz\, Alte Landstraße 1 \, Schwaz\, Tirol\, 6130\, Österreich
CATEGORIES:Tennis
END:VEVENT
BEGIN:VEVENT
DTSTART;TZID=Europe/Vienna:20181103T180000
DTEND;TZID=Europe/Vienna:20181103T200000
DTSTAMP:20260419T174212
CREATED:20180731T132310Z
LAST-MODIFIED:20181003T071815Z
UID:12395-1541268000-1541275200@www.rsctu.at
SUMMARY:2. BL Süd\, Ulm
DESCRIPTION:Sabres Ulm : RSC Tirol
URL:https://www.rsctu.at/termine/2-bl-sued-3/
LOCATION:Theodor – Pfizer – Halle\, Harthauser Straße\, Ulm\, 89077\, Deutschland
CATEGORIES:Basketball
END:VEVENT
BEGIN:VEVENT
DTSTART;VALUE=DATE:20181107
DTEND;VALUE=DATE:20181110
DTSTAMP:20260419T174212
CREATED:20181003T073417Z
LAST-MODIFIED:20181003T073417Z
UID:12789-1541581200-1541753999@www.rsctu.at
SUMMARY:Weltcup Snowboard Dubai
DESCRIPTION:
URL:https://www.rsctu.at/termine/weltcup-snowboard-dubai/
CATEGORIES:Snowboard
END:VEVENT
BEGIN:VEVENT
DTSTART;VALUE=DATE:20181108
DTEND;VALUE=DATE:20181111
DTSTAMP:20260419T174212
CREATED:20181003T074000Z
LAST-MODIFIED:20181003T074000Z
UID:12803-1541667600-1541840399@www.rsctu.at
SUMMARY:Europacup Ski-Alpin Landgraaf
DESCRIPTION:
URL:https://www.rsctu.at/termine/europacup-ski-alpin-landgraaf/
CATEGORIES:Ski Alpin
END:VEVENT
BEGIN:VEVENT
DTSTART;VALUE=DATE:20181110
DTEND;VALUE=DATE:20181112
DTSTAMP:20260419T174212
CREATED:20180702T121243Z
LAST-MODIFIED:20181017T053410Z
UID:12164-1541840400-1541926799@www.rsctu.at
SUMMARY:1. Runde DRS-Pokal\, Wörgl
DESCRIPTION:
URL:https://www.rsctu.at/termine/1-runde-drs-pokal/
LOCATION:Wörgl HAK / HAS\, Innsbrucker Straße 34\, Wörgl\, Tirol\, 6300\, Österreich
CATEGORIES:Basketball
END:VEVENT
BEGIN:VEVENT
DTSTART;VALUE=DATE:20181111
DTEND;VALUE=DATE:20181119
DTSTAMP:20260419T174212
CREATED:20180910T092529Z
LAST-MODIFIED:20180910T092716Z
UID:12596-1541926800-1542531599@www.rsctu.at
SUMMARY:Race Camp - Monoskikurs Fortgeschrittene
DESCRIPTION:
URL:https://www.rsctu.at/termine/race-camp-monoskikurs-fortgeschrittene/
LOCATION:Hotel Weisseespitze\, Platz 30\, Kaunertal\, Tirol\, 6524\, Österreich
CATEGORIES:Ski Alpin
ORGANIZER;CN="%C3%96sterreichischer Behindertensportverband":MAILTO:office@parasport.at
END:VEVENT
BEGIN:VEVENT
DTSTART;TZID=Europe/Vienna:20181111T110000
DTEND;TZID=Europe/Vienna:20181111T130000
DTSTAMP:20260419T174212
CREATED:20180731T132517Z
LAST-MODIFIED:20181003T071938Z
UID:12398-1541934000-1541941200@www.rsctu.at
SUMMARY:2. BL Süd\, Wörgl
DESCRIPTION:RSC Tirol : LUX Rollers a.s.b.l.
URL:https://www.rsctu.at/termine/2-bl-sued-4/
LOCATION:Wörgl HAK / HAS\, Innsbrucker Straße 34\, Wörgl\, Tirol\, 6300\, Österreich
CATEGORIES:Basketball
END:VEVENT
BEGIN:VEVENT
DTSTART;VALUE=DATE:20181113
DTEND;VALUE=DATE:20181115
DTSTAMP:20260419T174212
CREATED:20181003T073509Z
LAST-MODIFIED:20181003T073509Z
UID:12791-1542099600-1542185999@www.rsctu.at
SUMMARY:Europacup Snowboard Landgraaf
DESCRIPTION:
URL:https://www.rsctu.at/termine/europacup-snowboard-landgraaf/
CATEGORIES:Snowboard
END:VEVENT
BEGIN:VEVENT
DTSTART;VALUE=DATE:20181114
DTEND;VALUE=DATE:20181117
DTSTAMP:20260419T174212
CREATED:20181003T073540Z
LAST-MODIFIED:20181003T073555Z
UID:12793-1542186000-1542358799@www.rsctu.at
SUMMARY:Weltcup Snowboard Landgraaf
DESCRIPTION:
URL:https://www.rsctu.at/termine/weltcup-snowboard-landgraaf/
CATEGORIES:Snowboard
END:VEVENT
BEGIN:VEVENT
DTSTART;TZID=Europe/Vienna:20181121T130000
DTEND;TZID=Europe/Vienna:20181121T170000
DTSTAMP:20260419T174212
CREATED:20181018T064257Z
LAST-MODIFIED:20181018T064257Z
UID:12930-1542805200-1542819600@www.rsctu.at
SUMMARY:Golf Schnuppertraining
DESCRIPTION:
URL:https://www.rsctu.at/termine/golf-schnuppertraining/
LOCATION:RZ Häring\, Rehaweg 1\, Bad Häring\, 6323\, Österreich
CATEGORIES:Weitere Sportarten
END:VEVENT
BEGIN:VEVENT
DTSTART;VALUE=DATE:20181122
DTEND;VALUE=DATE:20181127
DTSTAMP:20260419T174212
CREATED:20180625T103835Z
LAST-MODIFIED:20181025T045508Z
UID:12143-1542877200-1543222799@www.rsctu.at
SUMMARY:Snowclan Training
DESCRIPTION:
URL:https://www.rsctu.at/termine/snowclan-training/
LOCATION:Hotel Weisseespitze\, Platz 30\, Kaunertal\, Tirol\, 6524\, Österreich
CATEGORIES:Ski Alpin,Snowboard
END:VEVENT
BEGIN:VEVENT
DTSTART;VALUE=DATE:20181125
DTEND;VALUE=DATE:20181129
DTSTAMP:20260419T174212
CREATED:20181003T074043Z
LAST-MODIFIED:20181003T074043Z
UID:12805-1543136400-1543395599@www.rsctu.at
SUMMARY:Europacup Ski-Alpin Pyha
DESCRIPTION:
URL:https://www.rsctu.at/termine/europacup-ski-alpin-pyha/
CATEGORIES:Ski Alpin
END:VEVENT
BEGIN:VEVENT
DTSTART;VALUE=DATE:20181130
DTEND;VALUE=DATE:20181204
DTSTAMP:20260419T174212
CREATED:20181003T073630Z
LAST-MODIFIED:20181003T073630Z
UID:12795-1543568400-1543827599@www.rsctu.at
SUMMARY:Weltcup Snowboard Pyha
DESCRIPTION:
URL:https://www.rsctu.at/termine/weltcup-snowboard-pyha/
CATEGORIES:Snowboard
END:VEVENT
BEGIN:VEVENT
DTSTART;VALUE=DATE:20181130
DTEND;VALUE=DATE:20181204
DTSTAMP:20260419T174212
CREATED:20181018T064016Z
LAST-MODIFIED:20181018T064016Z
UID:12927-1543568400-1543827599@www.rsctu.at
SUMMARY:Tenniscamp
DESCRIPTION:
URL:https://www.rsctu.at/termine/tenniscamp/
LOCATION:Stans
CATEGORIES:Tennis
END:VEVENT
END:VCALENDAR